BEGIN:VCALENDAR
VERSION:2.0
PRODID:-//Bibliothèque universitaire - ECPv6.15.18//NONSGML v1.0//EN
CALSCALE:GREGORIAN
METHOD:PUBLISH
X-WR-CALNAME:Bibliothèque universitaire
X-ORIGINAL-URL:https://bibliotheque.unicaen.fr
X-WR-CALDESC:Évènements pour Bibliothèque universitaire
REFRESH-INTERVAL;VALUE=DURATION:PT1H
X-Robots-Tag:noindex
X-PUBLISHED-TTL:PT1H
BEGIN:VTIMEZONE
TZID:Europe/Paris
BEGIN:DAYLIGHT
TZOFFSETFROM:+0100
TZOFFSETTO:+0200
TZNAME:CEST
DTSTART:20210328T010000
END:DAYLIGHT
BEGIN:STANDARD
TZOFFSETFROM:+0200
TZOFFSETTO:+0100
TZNAME:CET
DTSTART:20211031T010000
END:STANDARD
BEGIN:DAYLIGHT
TZOFFSETFROM:+0100
TZOFFSETTO:+0200
TZNAME:CEST
DTSTART:20220327T010000
END:DAYLIGHT
BEGIN:STANDARD
TZOFFSETFROM:+0200
TZOFFSETTO:+0100
TZNAME:CET
DTSTART:20221030T010000
END:STANDARD
BEGIN:DAYLIGHT
TZOFFSETFROM:+0100
TZOFFSETTO:+0200
TZNAME:CEST
DTSTART:20230326T010000
END:DAYLIGHT
BEGIN:STANDARD
TZOFFSETFROM:+0200
TZOFFSETTO:+0100
TZNAME:CET
DTSTART:20231029T010000
END:STANDARD
END:VTIMEZONE
BEGIN:VEVENT
DTSTART;VALUE=DATE:20220816
DTEND;VALUE=DATE:20220913
DTSTAMP:20260419T191319
CREATED:20220628T125900Z
LAST-MODIFIED:20220909T083833Z
UID:8250-1660608000-1663027199@bibliotheque.unicaen.fr
SUMMARY:Exposition "Richesses marines de l'Indopacifique"
DESCRIPTION:Exposition photos par Cyril Hervieu\nCarte des plongées\nHippocampe barbiganti\nLe Tricot rayé : le venin le plus puissant de la création\nJours et horaires d’ouverture de l’exposition\nAccès libre pendant les horaires d’ouverture de la BU Rosalind Franklin\nToutes les informations en cliquant sur horaires
URL:https://bibliotheque.unicaen.fr/evenement/exposition-richesses-marines-de-lindopacifique/
LOCATION:Caen · Campus 2 · Esplanade devant BU Rosalind-Franklin\, BU Rosalind-Franklin\, Campus 2\, Côte de Nacre\, Boulevard Maréchal Juin\, Caen\, 14032\, France
CATEGORIES:Exposition
ATTACH;FMTTYPE=image/jpeg:https://bibliotheque.unicaen.fr/wp-content/uploads/sites/8/2022/06/Expo-BURF-hippocampe-Bandeau-1000-400.jpg
ORGANIZER;CN="Service commun de la documentation":MAILTO:bibliotheque@unicaen.fr
END:VEVENT
END:VCALENDAR