BEGIN:VCALENDAR
VERSION:2.0
PRODID:-//Bibliothèque universitaire - ECPv6.15.18//NONSGML v1.0//EN
CALSCALE:GREGORIAN
METHOD:PUBLISH
X-WR-CALNAME:Bibliothèque universitaire
X-ORIGINAL-URL:https://bibliotheque.unicaen.fr
X-WR-CALDESC:Évènements pour Bibliothèque universitaire
REFRESH-INTERVAL;VALUE=DURATION:PT1H
X-Robots-Tag:noindex
X-PUBLISHED-TTL:PT1H
BEGIN:VTIMEZONE
TZID:Europe/Paris
BEGIN:DAYLIGHT
TZOFFSETFROM:+0100
TZOFFSETTO:+0200
TZNAME:CEST
DTSTART:20210328T010000
END:DAYLIGHT
BEGIN:STANDARD
TZOFFSETFROM:+0200
TZOFFSETTO:+0100
TZNAME:CET
DTSTART:20211031T010000
END:STANDARD
BEGIN:DAYLIGHT
TZOFFSETFROM:+0100
TZOFFSETTO:+0200
TZNAME:CEST
DTSTART:20220327T010000
END:DAYLIGHT
BEGIN:STANDARD
TZOFFSETFROM:+0200
TZOFFSETTO:+0100
TZNAME:CET
DTSTART:20221030T010000
END:STANDARD
BEGIN:DAYLIGHT
TZOFFSETFROM:+0100
TZOFFSETTO:+0200
TZNAME:CEST
DTSTART:20230326T010000
END:DAYLIGHT
BEGIN:STANDARD
TZOFFSETFROM:+0200
TZOFFSETTO:+0100
TZNAME:CET
DTSTART:20231029T010000
END:STANDARD
END:VTIMEZONE
BEGIN:VEVENT
DTSTART;VALUE=DATE:20221024
DTEND;VALUE=DATE:20221217
DTSTAMP:20260419T192011
CREATED:20221024T095740Z
LAST-MODIFIED:20230914T074444Z
UID:32778-1666569600-1671235199@bibliotheque.unicaen.fr
SUMMARY:Histoires de fausses nouvelles - exposition
DESCRIPTION:La BU de l’INSPE centre de Saint-Lô\, vous propose une exposition du CLEMI (Centre pour l’éducation aux médias et à l’information) et de la BNF (Bibliothèque nationale de France)\n\nDésinformation\, mensonge\, canular\, propagande\, la fausse nouvelle a été remise au goût du jour sous l’appellation de fake news puis de infox\nMais elle ne date pourtant pas d’hier\nLe CLEMI s’est associé a Bibliothèque nationale de France pour traiter cette question essentielle pour notre démocratie par l’étude des documents patrimoniaux\n \n\n\n\nCette exposition pédagogique en affiches propose des outils et des pistes de réflexion permettant de se repérer\, de trier\, d’identifier les sources et l’information pertinente pour cultiver l’exercice citoyen d’un doute méthodique\n\nVisible pendant les horaires d’ouverture de la BU\nRetrouver les horaires et renseignements pratiques en cliquant sur BU INSPE\n\n\n\n\n\n\n\n
URL:https://bibliotheque.unicaen.fr/evenement/histoires-de-fausses-nouvelles-exposition-a-la-bu-de-linspe-centre-saint-lo/
LOCATION:Saint-Lô · INSPÉ · BU\, Bibliothèque universitaire INSPE\, centre de Saint-Lô\, 10 Rue Saint-Georges\, Saint-Lô\, 50000\, France
CATEGORIES:Exposition,Vie de campus
ATTACH;FMTTYPE=image/jpeg:https://bibliotheque.unicaen.fr/wp-content/uploads/sites/8/2022/10/expo-fausses-fakes-BU-st-lo-1000-400.jpg
ORGANIZER;CN="Service commun de la documentation":MAILTO:bibliotheque@unicaen.fr
END:VEVENT
BEGIN:VEVENT
DTSTART;VALUE=DATE:20221107
DTEND;VALUE=DATE:20221217
DTSTAMP:20260419T192011
CREATED:20221103T105250Z
LAST-MODIFIED:20230612T133156Z
UID:32916-1667779200-1671235199@bibliotheque.unicaen.fr
SUMMARY:Jardins dans la ville - vagabondages entre cités-jardins - potagers urbains et jardins ouvriers
DESCRIPTION:Une exposition du Musée du Vivant AgroParisTech \nEntre jardins associatifs\, jardins collectifs\, jardins partagés\, la nature cultivée repart à la conquête des périphéries et des centre villes\, jusqu’aux architectes\, qui font de la nature urbaine l’objet d’un nouveau défit \nL’exposition s’intéresse à tous ces jardins qui s’immiscent  dans les villes et en périphérie des villesElle est présentée dans le cadre du mois de l’économie sociale et solidaire.
URL:https://bibliotheque.unicaen.fr/evenement/jardins-dans-la-ville-vagabondages-entre-cites-jardins-potagers-urbains-et-jardins-ouvriers/
LOCATION:Cherbourg-en-Cotentin · BU Blanche-Maupas\, Bibliothèque Universitaire Blanche Maupas\, Rue Max Pol Fouchet\, Cherbourg-en-Cotentin\, 50130\, France
CATEGORIES:Exposition,Vie de campus
ATTACH;FMTTYPE=image/jpeg:https://bibliotheque.unicaen.fr/wp-content/uploads/sites/8/2022/11/expo-jardins-BUBM.jpg
END:VEVENT
END:VCALENDAR