BEGIN:VCALENDAR
VERSION:2.0
PRODID:-//Bibliothèque universitaire - ECPv6.15.18//NONSGML v1.0//EN
CALSCALE:GREGORIAN
METHOD:PUBLISH
X-WR-CALNAME:Bibliothèque universitaire
X-ORIGINAL-URL:https://bibliotheque.unicaen.fr
X-WR-CALDESC:Évènements pour Bibliothèque universitaire
REFRESH-INTERVAL;VALUE=DURATION:PT1H
X-Robots-Tag:noindex
X-PUBLISHED-TTL:PT1H
BEGIN:VTIMEZONE
TZID:Europe/Paris
BEGIN:DAYLIGHT
TZOFFSETFROM:+0100
TZOFFSETTO:+0200
TZNAME:CEST
DTSTART:20220327T010000
END:DAYLIGHT
BEGIN:STANDARD
TZOFFSETFROM:+0200
TZOFFSETTO:+0100
TZNAME:CET
DTSTART:20221030T010000
END:STANDARD
BEGIN:DAYLIGHT
TZOFFSETFROM:+0100
TZOFFSETTO:+0200
TZNAME:CEST
DTSTART:20230326T010000
END:DAYLIGHT
BEGIN:STANDARD
TZOFFSETFROM:+0200
TZOFFSETTO:+0100
TZNAME:CET
DTSTART:20231029T010000
END:STANDARD
BEGIN:DAYLIGHT
TZOFFSETFROM:+0100
TZOFFSETTO:+0200
TZNAME:CEST
DTSTART:20240331T010000
END:DAYLIGHT
BEGIN:STANDARD
TZOFFSETFROM:+0200
TZOFFSETTO:+0100
TZNAME:CET
DTSTART:20241027T010000
END:STANDARD
END:VTIMEZONE
BEGIN:VEVENT
DTSTART;VALUE=DATE:20230301
DTEND;VALUE=DATE:20230401
DTSTAMP:20260419T192016
CREATED:20230214T160541Z
LAST-MODIFIED:20240207T133210Z
UID:33584-1677628800-1680307199@bibliotheque.unicaen.fr
SUMMARY:Les découvreuses anonymes
DESCRIPTION:Exposition du 01/03/2023 au 31/03/2023 à la BU Blanche Maupas (Cherbourg-en-Cotentin)Entrée libre et gratuite pendant les horaires de la BU \nRéalisée par l’association Animafac\, l’exposition est mise à disposition par l’Université de Caen Normandie \nElles ont découvert la structure de l’ADN\, inventé l’aquarium ou fait avancer l’étude des primates. Ces femmes scientifiques ont marqué les sciences et pourtant\, le grand public n’a pas connaissance de leurs brillantes carrières.Pour favoriser la visibilité des femmes dans les sciences\, Animafac et l’association WAX Science se sont associées pour réaliser une exposition sur ces femmes d’exception. \nLe photomaton de l’égalité\nVenez faire votre autoportrait et vous exprimer sur le thème de l’égalité entre les femmes et les hommes !Rendez-vous au restaurant universitaire de Cherbourg « La Passerelle » les 6 et 7 mars. \nToutes les photos et propos recueillis seront visibles sur un mur d’expression à la BU Blanche-Maupas\, du 9 au 31 mars. \nCette animation est proposée par la ville de Cherbourg\, dans le cadre du festival « Femmes dans la ville »\, autour de la journée internationale du droit des femmes.
URL:https://bibliotheque.unicaen.fr/evenement/les-decouvreuses-anonymes-2/
LOCATION:Cherbourg-en-Cotentin · BU Blanche-Maupas\, Bibliothèque Universitaire Blanche Maupas\, Rue Max Pol Fouchet\, Cherbourg-en-Cotentin\, 50130\, France
CATEGORIES:Exposition,Vie de campus
ATTACH;FMTTYPE=image/jpeg:https://bibliotheque.unicaen.fr/wp-content/uploads/sites/8/2022/12/decuvreuses-A-1000-400.jpg
ORGANIZER;CN="Service commun de la documentation":MAILTO:bibliotheque@unicaen.fr
END:VEVENT
BEGIN:VEVENT
DTSTART;VALUE=DATE:20230306
DTEND;VALUE=DATE:20230415
DTSTAMP:20260419T192016
CREATED:20230307T135339Z
LAST-MODIFIED:20251130T142108Z
UID:33909-1678060800-1681516799@bibliotheque.unicaen.fr
SUMMARY:Roll Her – Le roller derby caennais
DESCRIPTION:Entrée libre et gratuite pendant les horaires d’ouverture de la BU\n\n\n \nVenez découvrir à la bibliothèque du site saint-lois de l’INSPÉ une exposition sur le roller derby de Simon Gosselin\n \nRoll Her – Le roller derby caennais\nJusqu’au 14 avril 2023\n\nProjet de Simon Gosselin et Roller Derby Caen\n\nPhotographies Simon Gosselin\n\nOrganisation et conception par Antoine Perrus et les étudiants de l’IUT Info-Com de Caen – IFS campus 3\n\n\n\n\n\n\n
URL:https://bibliotheque.unicaen.fr/evenement/roll-her-le-roller-derby-caennais-2/
LOCATION:Saint-Lô · INSPÉ · BU\, Bibliothèque universitaire INSPE\, centre de Saint-Lô\, 10 Rue Saint-Georges\, Saint-Lô\, 50000\, France
CATEGORIES:Exposition,Vie de campus
END:VEVENT
BEGIN:VEVENT
DTSTART;VALUE=DATE:20230308
DTEND;VALUE=DATE:20230421
DTSTAMP:20260419T192016
CREATED:20230303T134833Z
LAST-MODIFIED:20230303T152634Z
UID:33842-1678233600-1682035199@bibliotheque.unicaen.fr
SUMMARY:Ceci n'est pas un fait divers
DESCRIPTION:Entrée libre et gratuite pendant les horaires d’ouverture de la BU Olympe-de-Gouges\n\nDans le cadre de la Semaine de lutte pour les droits des femmes\, la BU Olympe-de-Gouges accueille du 08 mars au 20 avril l’exposition « Ceci n’est pas un fait divers »\, réalisée par Osez le Féminisme ! avec la participation d’Education féministe.\n\nCréée par l’association Osez le féminisme ! 14\, l’exposition « Ceci n’est pas un fait divers » vise à sensibiliser le grand public au continuum des violences masculines et casser certaines idées reçues sur les agresseurs et les victimes.\nCette exposition utilise des objets de la vie de tous les jours pour rappeler les chiffres des violences machistes\, parler des agresseurs et des conséquences que leurs actes peuvent avoir sur le quotidien des femmes et des filles aujourd’hui.\n\nVoir également la page de L’Université dédiée à la Semaine de lutte pour les droits des femmes
URL:https://bibliotheque.unicaen.fr/evenement/ceci-nest-pas-un-fait-divers/
LOCATION:Alençon · BU Olympe-de-Gouges\, Bibliothèque universitaire Olympe-de-Gouges\, Montfoulon\, Damigny\, 61250\, France
CATEGORIES:Exposition,Vie de campus
ATTACH;FMTTYPE=image/jpeg:https://bibliotheque.unicaen.fr/wp-content/uploads/sites/8/2023/03/dts-des-femmes-expo.jpg
END:VEVENT
BEGIN:VEVENT
DTSTART;VALUE=DATE:20230309
DTEND;VALUE=DATE:20230401
DTSTAMP:20260419T192016
CREATED:20230214T160828Z
LAST-MODIFIED:20240207T133254Z
UID:33587-1678320000-1680307199@bibliotheque.unicaen.fr
SUMMARY:Exposition des photos et propos du "Photomaton de l'égalité"
DESCRIPTION:Entrée libre et gratuite pendant les horaires de la BU Blanche-Maupas (Cherbourg-en-Cotentin) \nDu 9 au 31 mars\, la BU expose sur un mur d’expression les photos et propos recueillis les 6 et 7 mars au restaurant universitaire La Passerelle (Cherbourg-en-Cotentin) lors de l’animation « Le photomaton de l’égalité »\, proposée par la ville de Cherbourg dans le cadre du festival “Femmes dans la ville”\, autour de la journée internationale du droit des femmes \nRetrouvez également l’exposition « Les découvreuses anonymes » du 1er au 31 mars 2023 à la BU Blanche Maupas (Cherbourg-en-Cotentin)
URL:https://bibliotheque.unicaen.fr/evenement/exposition-des-photos-et-propos-du-photomaton-de-legalite/
LOCATION:Cherbourg-en-Cotentin · BU Blanche-Maupas\, Bibliothèque Universitaire Blanche Maupas\, Rue Max Pol Fouchet\, Cherbourg-en-Cotentin\, 50130\, France
CATEGORIES:Exposition,Vie de campus
ATTACH;FMTTYPE=image/jpeg:https://bibliotheque.unicaen.fr/wp-content/uploads/sites/8/2023/02/photomaton-cherbourg.jpg
ORGANIZER;CN="Service commun de la documentation":MAILTO:bibliotheque@unicaen.fr
END:VEVENT
BEGIN:VEVENT
DTSTART;VALUE=DATE:20230309
DTEND;VALUE=DATE:20230504
DTSTAMP:20260419T192016
CREATED:20230301T110153Z
LAST-MODIFIED:20230427T083439Z
UID:33677-1678320000-1683158399@bibliotheque.unicaen.fr
SUMMARY:Herbiers de l’université Caen Normandie
DESCRIPTION:Exposition du 9 mars au 3 mai 2023\nEntrée libre et gratuite pendant les horaires de la BU Rosalind Franklin \nÀ l’occasion du Festival [En]quête de Sciences\, l’Université vous propose de découvrir à travers une présentation inédite et jamais encore dévoilée au public\, une partie des collections de l’Herbier de l’Université Caen Normandie \nRetrouvez les photos de l’exposition en ligne\, sur le site de la Société linnéenne de Normandie\n  \nVisite de l’exposition + ateliers « Identification des végétaux”\nSamedi 25 mars de 14h à 18h\nVisites et ateliers gratuits – Ouverts à toutes et à tous\nL’association étudiante ACEN (Association Caennaise des Étudiants Naturalistes) vous propose un atelier autour de l’exposition\n\nVenez à la découverte des collections d’herbiers et vous essayer à l’identification de végétaux
URL:https://bibliotheque.unicaen.fr/evenement/herbiers-de-luniversite-caen-normandie/
LOCATION:Caen · Campus 2 · BU Rosalind-Franklin\, BU Rosalind-Franklin\, Campus 2\, Côte de Nacre\, Boulevard Maréchal Juin\, Caen\, 14032\, France
CATEGORIES:Exposition,Vie de campus
ATTACH;FMTTYPE=image/jpeg:https://bibliotheque.unicaen.fr/wp-content/uploads/sites/8/2023/03/herbiers-1000-400.jpg
END:VEVENT
END:VCALENDAR