BEGIN:VCALENDAR
VERSION:2.0
PRODID:-//Bibliothèque universitaire - ECPv6.15.18//NONSGML v1.0//EN
CALSCALE:GREGORIAN
METHOD:PUBLISH
X-WR-CALNAME:Bibliothèque universitaire
X-ORIGINAL-URL:https://bibliotheque.unicaen.fr
X-WR-CALDESC:Évènements pour Bibliothèque universitaire
REFRESH-INTERVAL;VALUE=DURATION:PT1H
X-Robots-Tag:noindex
X-PUBLISHED-TTL:PT1H
BEGIN:VTIMEZONE
TZID:Europe/Paris
BEGIN:DAYLIGHT
TZOFFSETFROM:+0100
TZOFFSETTO:+0200
TZNAME:CEST
DTSTART:20220327T010000
END:DAYLIGHT
BEGIN:STANDARD
TZOFFSETFROM:+0200
TZOFFSETTO:+0100
TZNAME:CET
DTSTART:20221030T010000
END:STANDARD
BEGIN:DAYLIGHT
TZOFFSETFROM:+0100
TZOFFSETTO:+0200
TZNAME:CEST
DTSTART:20230326T010000
END:DAYLIGHT
BEGIN:STANDARD
TZOFFSETFROM:+0200
TZOFFSETTO:+0100
TZNAME:CET
DTSTART:20231029T010000
END:STANDARD
BEGIN:DAYLIGHT
TZOFFSETFROM:+0100
TZOFFSETTO:+0200
TZNAME:CEST
DTSTART:20240331T010000
END:DAYLIGHT
BEGIN:STANDARD
TZOFFSETFROM:+0200
TZOFFSETTO:+0100
TZNAME:CET
DTSTART:20241027T010000
END:STANDARD
END:VTIMEZONE
BEGIN:VEVENT
DTSTART;VALUE=DATE:20230309
DTEND;VALUE=DATE:20230504
DTSTAMP:20260420T100208
CREATED:20230301T110153Z
LAST-MODIFIED:20230427T083439Z
UID:33677-1678320000-1683158399@bibliotheque.unicaen.fr
SUMMARY:Herbiers de l’université Caen Normandie
DESCRIPTION:Exposition du 9 mars au 3 mai 2023\nEntrée libre et gratuite pendant les horaires de la BU Rosalind Franklin \nÀ l’occasion du Festival [En]quête de Sciences\, l’Université vous propose de découvrir à travers une présentation inédite et jamais encore dévoilée au public\, une partie des collections de l’Herbier de l’Université Caen Normandie \nRetrouvez les photos de l’exposition en ligne\, sur le site de la Société linnéenne de Normandie\n  \nVisite de l’exposition + ateliers « Identification des végétaux”\nSamedi 25 mars de 14h à 18h\nVisites et ateliers gratuits – Ouverts à toutes et à tous\nL’association étudiante ACEN (Association Caennaise des Étudiants Naturalistes) vous propose un atelier autour de l’exposition\n\nVenez à la découverte des collections d’herbiers et vous essayer à l’identification de végétaux
URL:https://bibliotheque.unicaen.fr/evenement/herbiers-de-luniversite-caen-normandie/
LOCATION:Caen · Campus 2 · BU Rosalind-Franklin\, BU Rosalind-Franklin\, Campus 2\, Côte de Nacre\, Boulevard Maréchal Juin\, Caen\, 14032\, France
CATEGORIES:Exposition,Vie de campus
ATTACH;FMTTYPE=image/jpeg:https://bibliotheque.unicaen.fr/wp-content/uploads/sites/8/2023/03/herbiers-1000-400.jpg
END:VEVENT
BEGIN:VEVENT
DTSTART;VALUE=DATE:20230424
DTEND;VALUE=DATE:20230617
DTSTAMP:20260420T100208
CREATED:20230420T085654Z
LAST-MODIFIED:20230524T053028Z
UID:34418-1682294400-1686959999@bibliotheque.unicaen.fr
SUMMARY:Exposition Ex-libris
DESCRIPTION:La bibliothèque universitaire Pierre-Sineux vous propose de découvrir quelques ex-libris\, ex-dono et marques de provenance issus des collections. Cette exposition a été conçue par Simon Dennebouy\, étudiant en Master accueilli en stage à la BU Pierre-Sineux. \nEntrée libre et gratuite aux horaires d’ouverture de la BU Pierre-Sineux.
URL:https://bibliotheque.unicaen.fr/evenement/exposition-ex-libris/
LOCATION:Caen · Campus 1 · BU Pierre-Sineux\, Bibliothèque Universitaire Pierre-Sineux\, Esplanade de la Paix\, Caen\, 14000\, France
CATEGORIES:Exposition,Vie de campus
ATTACH;FMTTYPE=image/png:https://bibliotheque.unicaen.fr/wp-content/uploads/sites/8/2023/04/ex_libris_1000x400.png
ORGANIZER;CN="Service commun de la documentation":MAILTO:bibliotheque@unicaen.fr
END:VEVENT
END:VCALENDAR