BEGIN:VCALENDAR
VERSION:2.0
PRODID:-//Bibliothèque universitaire - ECPv6.15.18//NONSGML v1.0//EN
CALSCALE:GREGORIAN
METHOD:PUBLISH
X-WR-CALNAME:Bibliothèque universitaire
X-ORIGINAL-URL:https://bibliotheque.unicaen.fr
X-WR-CALDESC:Évènements pour Bibliothèque universitaire
REFRESH-INTERVAL;VALUE=DURATION:PT1H
X-Robots-Tag:noindex
X-PUBLISHED-TTL:PT1H
BEGIN:VTIMEZONE
TZID:Europe/Paris
BEGIN:DAYLIGHT
TZOFFSETFROM:+0100
TZOFFSETTO:+0200
TZNAME:CEST
DTSTART:20220327T010000
END:DAYLIGHT
BEGIN:STANDARD
TZOFFSETFROM:+0200
TZOFFSETTO:+0100
TZNAME:CET
DTSTART:20221030T010000
END:STANDARD
BEGIN:DAYLIGHT
TZOFFSETFROM:+0100
TZOFFSETTO:+0200
TZNAME:CEST
DTSTART:20230326T010000
END:DAYLIGHT
BEGIN:STANDARD
TZOFFSETFROM:+0200
TZOFFSETTO:+0100
TZNAME:CET
DTSTART:20231029T010000
END:STANDARD
BEGIN:DAYLIGHT
TZOFFSETFROM:+0100
TZOFFSETTO:+0200
TZNAME:CEST
DTSTART:20240331T010000
END:DAYLIGHT
BEGIN:STANDARD
TZOFFSETFROM:+0200
TZOFFSETTO:+0100
TZNAME:CET
DTSTART:20241027T010000
END:STANDARD
END:VTIMEZONE
BEGIN:VEVENT
DTSTART;TZID=Europe/Paris:20230907T090000
DTEND;TZID=Europe/Paris:20230929T180000
DTSTAMP:20260422T071450
CREATED:20230907T114910Z
LAST-MODIFIED:20230908T112949Z
UID:48471-1694077200-1696010400@bibliotheque.unicaen.fr
SUMMARY:Pensez-vous pouvoir flasher ce "QR code" ? - Exposition BU Blanche Maupas
DESCRIPTION:Venez découvrir les mystères qui se cachent derrière les tableaux de l’artothèque de Cherbourg exposés tout le mois de septembre à la BU Blanche-Maupas (Cherbourg-en-Cotentin) \n\n\n\nDes œuvres de Peter Klasen\, Jochen Gerner\, François Morellet\, Alexander Calder
URL:https://bibliotheque.unicaen.fr/evenement/pensez-vous-pouvoir-flasher-ce-qr-code-exposition-bu-blanche-maupas/
LOCATION:Cherbourg-en-Cotentin · BU Blanche-Maupas\, Bibliothèque Universitaire Blanche Maupas\, Rue Max Pol Fouchet\, Cherbourg-en-Cotentin\, 50130\, France
CATEGORIES:Autres,Exposition,Vie de campus
ATTACH;FMTTYPE=image/jpeg:https://bibliotheque.unicaen.fr/wp-content/uploads/sites/8/2023/09/QR-code-expo-bubm.jpg
END:VEVENT
END:VCALENDAR