BEGIN:VCALENDAR
VERSION:2.0
PRODID:-//Bibliothèque universitaire - ECPv6.15.18//NONSGML v1.0//EN
CALSCALE:GREGORIAN
METHOD:PUBLISH
X-WR-CALNAME:Bibliothèque universitaire
X-ORIGINAL-URL:https://bibliotheque.unicaen.fr
X-WR-CALDESC:Évènements pour Bibliothèque universitaire
REFRESH-INTERVAL;VALUE=DURATION:PT1H
X-Robots-Tag:noindex
X-PUBLISHED-TTL:PT1H
BEGIN:VTIMEZONE
TZID:Europe/Paris
BEGIN:DAYLIGHT
TZOFFSETFROM:+0100
TZOFFSETTO:+0200
TZNAME:CEST
DTSTART:20220327T010000
END:DAYLIGHT
BEGIN:STANDARD
TZOFFSETFROM:+0200
TZOFFSETTO:+0100
TZNAME:CET
DTSTART:20221030T010000
END:STANDARD
BEGIN:DAYLIGHT
TZOFFSETFROM:+0100
TZOFFSETTO:+0200
TZNAME:CEST
DTSTART:20230326T010000
END:DAYLIGHT
BEGIN:STANDARD
TZOFFSETFROM:+0200
TZOFFSETTO:+0100
TZNAME:CET
DTSTART:20231029T010000
END:STANDARD
BEGIN:DAYLIGHT
TZOFFSETFROM:+0100
TZOFFSETTO:+0200
TZNAME:CEST
DTSTART:20240331T010000
END:DAYLIGHT
BEGIN:STANDARD
TZOFFSETFROM:+0200
TZOFFSETTO:+0100
TZNAME:CET
DTSTART:20241027T010000
END:STANDARD
END:VTIMEZONE
BEGIN:VEVENT
DTSTART;TZID=Europe/Paris:20231102T090000
DTEND;TZID=Europe/Paris:20231222T230000
DTSTAMP:20260419T234259
CREATED:20231024T122512Z
LAST-MODIFIED:20231024T122513Z
UID:49213-1698915600-1703286000@bibliotheque.unicaen.fr
SUMMARY:Le Cormoran - Exposition BU Rosalind Franklin (campus 2)
DESCRIPTION:L’exposition présente le grand cormoran sous ses diverses facettes : description\, critères de reconnaissance et de distinction des espèces proches. Une évocation des relations\, parfois très anciennes\, de cette espèce avec l’homme est présentée.Les divers aspects de la biologie de reproduction de cette espèce coloniale sont présentés\, ainsi que son écologie alimentaire et les modalités de sa dispersion internuptiale. \n\n\n\nLa Conférence « Le Grand Cormoran »\n\n\n\nMercredi 22 novembre à 17h30-18h30Salle de conférence\, au 2ème étage de la BU\n\n\n\nLa conférence présente divers aspects de la biologie et de l’écologie du grand cormoran\, l’évolution de ses effectifs en Normandie ainsi que ses relations avec l’homme\, parfois très anciennes.
URL:https://bibliotheque.unicaen.fr/evenement/le-cormoran-exposition-bu-rosalind-franklin-campus-2/
LOCATION:Caen · Campus 2 · BU Rosalind-Franklin\, BU Rosalind-Franklin\, Campus 2\, Côte de Nacre\, Boulevard Maréchal Juin\, Caen\, 14032\, France
CATEGORIES:Autres,Conférence,Exposition,Vie de campus
END:VEVENT
BEGIN:VEVENT
DTSTART;TZID=Europe/Paris:20231106T090000
DTEND;TZID=Europe/Paris:20231221T180000
DTSTAMP:20260419T234259
CREATED:20231106T080233Z
LAST-MODIFIED:20231114T094429Z
UID:49248-1699261200-1703181600@bibliotheque.unicaen.fr
SUMMARY:Exposition "Commun voyage"
DESCRIPTION:Clémence Leconte\, diplômée de l’IAE Caen Normandie\, a réalisé les portraits de demandeurs d’asile faisant étape au Centre d’accueil et d’examen des situations 2ChosesLune sur la presqu’île de Caen. De ces portraits se dégagent les émotions ressenties par des êtres humains au parcours migratoire souvent tourmenté. L’exposition « Commun voyage » est le fruit de ces rencontres. \n\n\n\nVenez écouter Clémence Leconte le jeudi 7 décembre à 14h30 (Amphi Droit du Campus d’Alençon).
URL:https://bibliotheque.unicaen.fr/evenement/exposition-commun-voyage/
LOCATION:Alençon · BU Olympe-de-Gouges\, Bibliothèque universitaire Olympe-de-Gouges\, Montfoulon\, Damigny\, 61250\, France
CATEGORIES:Conférence,Exposition,Vie de campus
ATTACH;FMTTYPE=image/png:https://bibliotheque.unicaen.fr/wp-content/uploads/sites/8/2023/10/RS-_1000x400px_-commun-voyage.png
END:VEVENT
BEGIN:VEVENT
DTSTART;TZID=Europe/Paris:20231113T000000
DTEND;TZID=Europe/Paris:20231208T235959
DTSTAMP:20260419T234259
CREATED:20231107T102040Z
LAST-MODIFIED:20231107T171146Z
UID:49299-1699833600-1702079999@bibliotheque.unicaen.fr
SUMMARY:L'Eau dans tous ses états
DESCRIPTION:La bibliothèque universitaire et le Caen photo club Le Conquérant sont heureux de vous présenter une exposition sur le thème de l’eau\, « L’Eau dans tous ses états ». \n\n\n\n\nL’eau\, cet élément indispensable à la vie sur terre\, est issue de la nature.Elle se présente sous différentes formes : eau minérale\, eau de source\, eau du robinet et sous différents états : solide (glace\, neige\, givre\, grêle …) \, liquide (eau des océans\, des mers\, des lacs\, des rivières\, des nuages\, des brouillards\, de la rosée…) ou encore gazeux (vapeur d’eau).L’eau est aussi une ressource indispensable pour notre santé\, notre économie et nos écosystèmes\, que nous devons préserver pour les générations futures.Tout comme le bruit de l’eau qui coule\, nous espérons que ces images vous apporteront une forme de sérénité. \nCaen photo club Le Conquérant\n\n\n\nLe Caen photo club Le Conquérant est une association regroupant des photographes amateurs de tous horizons. Hébergée au Centre d’Animation de La Prairie à Caen\, elle a pour objectif la diffusion de la technique ainsi que la pratique de l’art photographique par le biais de cours\, réunions\, sorties\, participation à des concours\, expositions\, etc.
URL:https://bibliotheque.unicaen.fr/evenement/leau-dans-tous-ses-etats/
LOCATION:Caen · Campus 5 · BU Madeleine-Brès\, BU Madeleine-Brès\, 2 Rue des Rochambelles\, Caen\, 14000\, France
CATEGORIES:Exposition
ATTACH;FMTTYPE=image/png:https://bibliotheque.unicaen.fr/wp-content/uploads/sites/8/2023/11/LEau-dans-tous-ses-etats_bandeau.png
END:VEVENT
BEGIN:VEVENT
DTSTART;TZID=Europe/Paris:20231115T133000
DTEND;TZID=Europe/Paris:20231115T170000
DTSTAMP:20260419T234259
CREATED:20230707T075434Z
LAST-MODIFIED:20230707T075810Z
UID:48188-1700055000-1700067600@bibliotheque.unicaen.fr
SUMMARY:Permanences d'accès au droit
DESCRIPTION:Gratuites\, ces permanences sont ouvertes aux étudiants et personnels UNICAEN\, mais également à toute personne extérieure à l’université. Elles sont assurées par des professionnelsEn salle 0 les mercredis de 13h30 à 17haccessibles avec ou sans rendez-vous  \n\nContact\nPour demander un rendez-vous ou exposer sa question / son problème juridique02 50 10 13 07du lundi au vendredi de 9h à 12h et de 13h30 à 16h30contact@cdad14.fren indiquant son numéro de téléphone et ses disponibilités pour pouvoir être recontacté
URL:https://bibliotheque.unicaen.fr/evenement/permanences-dacces-au-droit-16/
LOCATION:Caen · Campus 1 · BU Pierre-Sineux\, Bibliothèque Universitaire Pierre-Sineux\, Esplanade de la Paix\, Caen\, 14000\, France
CATEGORIES:Autres
ATTACH;FMTTYPE=image/jpeg:https://bibliotheque.unicaen.fr/wp-content/uploads/sites/8/2022/08/Permanences-droit-1000-400.jpg
END:VEVENT
BEGIN:VEVENT
DTSTART;TZID=Europe/Paris:20231115T160000
DTEND;TZID=Europe/Paris:20231115T180000
DTSTAMP:20260419T234259
CREATED:20231012T080502Z
LAST-MODIFIED:20240123T155758Z
UID:49098-1700064000-1700071200@bibliotheque.unicaen.fr
SUMMARY:Ateliers jeux - BU Rosalind Franklin
DESCRIPTION:Animation permettant de sensibiliser au jeu et à la pratique ludique de jeux de règles\, coopératifs et de loisir\, mais aussi pour se détendre\, s’évader\, rêver en découvrant et partageant de nouveaux univers. \n\n\n\nUn mercredi sur deuxde 16h à 18hEspace jeux\, au rez-de-chaussée\n\n\n\nAccès à l’atelier sans inscription \n\n\n\nIntervenant\n\n\n\nVia Ludis \n\n\n\nLes dates\n\n\n\n15/11 – 29/1113/1210/01 – 24/017/02 – 21/026/03 \n\n\n\nLes stages et ateliers gratuits Unicaen\n\n\n\nToutes les pratiques artistiques \n\n\n\nDANS LA MÊME CATÉGORIE
URL:https://bibliotheque.unicaen.fr/evenement/ateliers-jeux-bu-rosalind-franklin/
LOCATION:Caen · Campus 2 · BU Rosalind-Franklin\, BU Rosalind-Franklin\, Campus 2\, Côte de Nacre\, Boulevard Maréchal Juin\, Caen\, 14032\, France
CATEGORIES:Autres,Vie de campus
ATTACH;FMTTYPE=image/jpeg:https://bibliotheque.unicaen.fr/wp-content/uploads/sites/8/2023/10/Ateliers-jeux.jpg
END:VEVENT
END:VCALENDAR