BEGIN:VCALENDAR
VERSION:2.0
PRODID:-//Bibliothèque universitaire - ECPv6.15.18//NONSGML v1.0//EN
CALSCALE:GREGORIAN
METHOD:PUBLISH
X-ORIGINAL-URL:https://bibliotheque.unicaen.fr
X-WR-CALDESC:Évènements pour Bibliothèque universitaire
REFRESH-INTERVAL;VALUE=DURATION:PT1H
X-Robots-Tag:noindex
X-PUBLISHED-TTL:PT1H
BEGIN:VTIMEZONE
TZID:Europe/Paris
BEGIN:DAYLIGHT
TZOFFSETFROM:+0100
TZOFFSETTO:+0200
TZNAME:CEST
DTSTART:20230326T010000
END:DAYLIGHT
BEGIN:STANDARD
TZOFFSETFROM:+0200
TZOFFSETTO:+0100
TZNAME:CET
DTSTART:20231029T010000
END:STANDARD
BEGIN:DAYLIGHT
TZOFFSETFROM:+0100
TZOFFSETTO:+0200
TZNAME:CEST
DTSTART:20240331T010000
END:DAYLIGHT
BEGIN:STANDARD
TZOFFSETFROM:+0200
TZOFFSETTO:+0100
TZNAME:CET
DTSTART:20241027T010000
END:STANDARD
BEGIN:DAYLIGHT
TZOFFSETFROM:+0100
TZOFFSETTO:+0200
TZNAME:CEST
DTSTART:20250330T010000
END:DAYLIGHT
BEGIN:STANDARD
TZOFFSETFROM:+0200
TZOFFSETTO:+0100
TZNAME:CET
DTSTART:20251026T010000
END:STANDARD
END:VTIMEZONE
BEGIN:VEVENT
DTSTART;TZID=Europe/Paris:20240208T000000
DTEND;TZID=Europe/Paris:20240606T235959
DTSTAMP:20260421T213957
CREATED:20240221T101728Z
LAST-MODIFIED:20240227T131554Z
UID:50243-1707350400-1717718399@bibliotheque.unicaen.fr
SUMMARY:Habiter là - Exposition BU Olympe de Gouges
DESCRIPTION:La BU Olympe-de-Gouges accueille une sélection des œuvres du collectif d’artistes créé pour le projet « Habiter là » : Marie-Noëlle Deverre\, Giulia Torelli et Michel Bidet et des œuvres d’enfants issues de la pédagogie d’initiation (Association Germaine Tortel). \n\n\n\nVoir les horaires de la BU
URL:https://bibliotheque.unicaen.fr/evenement/habiter-la-exposition-bu-olympe-de-gouges/
LOCATION:Alençon · BU Olympe-de-Gouges\, Bibliothèque universitaire Olympe-de-Gouges\, Montfoulon\, Damigny\, 61250\, France
CATEGORIES:Exposition,Vie de campus
ATTACH;FMTTYPE=image/jpeg:https://bibliotheque.unicaen.fr/wp-content/uploads/sites/8/2024/02/Expo_Habiter_la_BUOG.jpg
END:VEVENT
BEGIN:VEVENT
DTSTART;TZID=Europe/Paris:20240212T000000
DTEND;TZID=Europe/Paris:20240315T235959
DTSTAMP:20260421T213957
CREATED:20240212T133705Z
LAST-MODIFIED:20240229T143907Z
UID:50156-1707696000-1710547199@bibliotheque.unicaen.fr
SUMMARY:Partage et solidarité\, entre France et Togo
DESCRIPTION:L’équipe de Togoban\, association de solidarité international d’étudiantes en orthophonie\, a réalisé de nombreuses photographies\, lors de son voyage au Togo en juin 2023.   \n\n\n\nLes participantes en ont tiré une exposition\, où l’on découvre les projets réalisés sur place\, ainsi que des moments de vie dans le pays.  \n\n\n\nLa bonne humeur et la convivialité ressenties par les participantes\, ressortent de ces images.
URL:https://bibliotheque.unicaen.fr/evenement/partage-et-solidarite-entre-france-et-togo/
LOCATION:Caen · Campus 5 · BU Madeleine-Brès\, BU Madeleine-Brès\, 2 Rue des Rochambelles\, Caen\, 14000\, France
CATEGORIES:Exposition
ATTACH;FMTTYPE=image/jpeg:https://bibliotheque.unicaen.fr/wp-content/uploads/sites/8/2024/02/UNICAEN_SCD_TOGOBAN_Expo.jpg
END:VEVENT
BEGIN:VEVENT
DTSTART;TZID=Europe/Paris:20240311T000000
DTEND;TZID=Europe/Paris:20240323T235959
DTSTAMP:20260421T213957
CREATED:20240227T143719Z
LAST-MODIFIED:20240307T094201Z
UID:50275-1710115200-1711238399@bibliotheque.unicaen.fr
SUMMARY:1er Grand Prix Paragolf de Caen-la-Mer [Exposition]
DESCRIPTION:Découvrez une sélection de photographies prises à l’occasion du 1er Grand Prix Paragolf de Caen-la-Mer. \n\n\n\nPhotographies de Camille Leforestier (ancienne étudiante du Master APAS) et l’association sportive du golf de Caen-la-Mer \n\n\n\nRetrouvez les prochaines animations du festival [En]Quête de Sciences
URL:https://bibliotheque.unicaen.fr/evenement/1er-grand-prix-paragolf-de-caen-la-mer/
LOCATION:Caen · Campus 2 · BU Rosalind-Franklin\, BU Rosalind-Franklin\, Campus 2\, Côte de Nacre\, Boulevard Maréchal Juin\, Caen\, 14032\, France
CATEGORIES:EnQuête de Sciences,Exposition,Vie de campus
ATTACH;FMTTYPE=image/jpeg:https://bibliotheque.unicaen.fr/wp-content/uploads/sites/8/2024/03/UNICAEN_SCD-Expo-Paragolf.jpg
END:VEVENT
BEGIN:VEVENT
DTSTART;TZID=Europe/Paris:20240314T123000
DTEND;TZID=Europe/Paris:20240314T131500
DTSTAMP:20260421T213957
CREATED:20240301T103305Z
LAST-MODIFIED:20240416T140526Z
UID:50373-1710419400-1710422100@bibliotheque.unicaen.fr
SUMMARY:Quiz mathématiques du π-Day
DESCRIPTION:Venez participer\, en équipes\, à un quiz d’énigmes de maths :  chaque équipe doit résoudre un maximum d’énigmes en temps limité pour battre les autres. Pour célébrer le jour de π comme il se doit\, des tartes salées et sucrées seront offertes aux participants\, avant ou après l’épreuve. \n\n\n\nJeux organisés sur plusieurs campus : \n\n\n\nAnimations organisées sur plusieurs campus : \n\n\n\n\nCaen\, Campus 2\, BU Rosalind-Franklin\, Salle de conférence ;\n\n\n\nAlençon\, BU Olympe-de-Gouges ;\n\n\n\nCherbourg\, BU Blanche-Maupas\n\n\n\n\n\n\n\n\n\n\nContact : bu.rosalind-franklin@unicaen.fr  \n\n\n\nJeux animé par Emmanuelle Féaux de Lacroix (LMNO) \n\n\n\nRetrouvez les prochaines animations du festival [En]Quête de Sciences
URL:https://bibliotheque.unicaen.fr/evenement/quiz-mathematiques-du-%cf%80-day/
CATEGORIES:EnQuête de Sciences,Vie de campus
END:VEVENT
BEGIN:VEVENT
DTSTART;TZID=Europe/Paris:20240314T133000
DTEND;TZID=Europe/Paris:20240314T160000
DTSTAMP:20260421T213957
CREATED:20240301T104411Z
LAST-MODIFIED:20240307T103746Z
UID:50384-1710423000-1710432000@bibliotheque.unicaen.fr
SUMMARY:Quiz ergonomie
DESCRIPTION:C’est quoi l’ergonomie ? Venez vous tester pour mieux connaitre cette fillière de l’UFR STAPS ! \n\n\n\nJeu animé par l’association Ergo Caen \n\n\n\nRetrouvez les prochaines animations du festival [En]Quête de Sciences
URL:https://bibliotheque.unicaen.fr/evenement/quiz-ergonomie/
CATEGORIES:EnQuête de Sciences,Vie de campus
END:VEVENT
BEGIN:VEVENT
DTSTART;TZID=Europe/Paris:20240314T183000
DTEND;TZID=Europe/Paris:20240314T183000
DTSTAMP:20260421T213957
CREATED:20240301T104556Z
LAST-MODIFIED:20240416T140354Z
UID:50397-1710441000-1710441000@bibliotheque.unicaen.fr
SUMMARY:Qualifications du tournoi d’échecs en ligne « U’Chess Unicaen »
DESCRIPTION:Venez participer au tournoi d’échecs en ligne sur lichess.org \n\n\n\n\n\nDiffusion en direct sur la chaîne Twitch de PhenyxECN : https://www.twitch.tv/phenyxecn \n\n\n\nContact : contactpecn@gmail.com \n\n\n\nCompétition organisé par la FFSU\, la BU Rosalind Franklin et l’association PhenyxECN \n\n\n\nRetrouvez les prochaines animations du festival [En]Quête de Sciences
URL:https://bibliotheque.unicaen.fr/evenement/qualifications-du-tournoi-dechecs-en-ligne-uchess-unicaen-4/
CATEGORIES:EnQuête de Sciences,Vie de campus
END:VEVENT
END:VCALENDAR