BEGIN:VCALENDAR
VERSION:2.0
PRODID:-//Bibliothèque universitaire - ECPv6.15.18//NONSGML v1.0//EN
CALSCALE:GREGORIAN
METHOD:PUBLISH
X-ORIGINAL-URL:https://bibliotheque.unicaen.fr
X-WR-CALDESC:Évènements pour Bibliothèque universitaire
REFRESH-INTERVAL;VALUE=DURATION:PT1H
X-Robots-Tag:noindex
X-PUBLISHED-TTL:PT1H
BEGIN:VTIMEZONE
TZID:Europe/Paris
BEGIN:DAYLIGHT
TZOFFSETFROM:+0100
TZOFFSETTO:+0200
TZNAME:CEST
DTSTART:20240331T010000
END:DAYLIGHT
BEGIN:STANDARD
TZOFFSETFROM:+0200
TZOFFSETTO:+0100
TZNAME:CET
DTSTART:20241027T010000
END:STANDARD
BEGIN:DAYLIGHT
TZOFFSETFROM:+0100
TZOFFSETTO:+0200
TZNAME:CEST
DTSTART:20250330T010000
END:DAYLIGHT
BEGIN:STANDARD
TZOFFSETFROM:+0200
TZOFFSETTO:+0100
TZNAME:CET
DTSTART:20251026T010000
END:STANDARD
BEGIN:DAYLIGHT
TZOFFSETFROM:+0100
TZOFFSETTO:+0200
TZNAME:CEST
DTSTART:20260329T010000
END:DAYLIGHT
BEGIN:STANDARD
TZOFFSETFROM:+0200
TZOFFSETTO:+0100
TZNAME:CET
DTSTART:20261025T010000
END:STANDARD
END:VTIMEZONE
BEGIN:VEVENT
DTSTART;TZID=Europe/Paris:20250107T090000
DTEND;TZID=Europe/Paris:20250301T190000
DTSTAMP:20260422T014037
CREATED:20250116T115014Z
LAST-MODIFIED:20250120T153424Z
UID:52717-1736240400-1740855600@bibliotheque.unicaen.fr
SUMMARY:Dimensions Pop Culture
DESCRIPTION:La Bu Rosalind-Franklin accueille « Dimensions Pop Culture »\, une exposition de Jesús Salmerón qui présente une trentaine de sculptures numériques imprimées en 3D. \n\n\n\nEn revisitant ces figures par une technique innovatrice\, l’artiste qui se définit davantage comme un artisan\, nous montre que la culture populaire peut être un terrain de jeu artistique sans limites. Cette exposition\, accessible et surprenante\, invite à redécouvrir des personnages familiers sous une forme inédite. Que vous soyez fan de pop culture ou simplement curieux ou curieuses\, cette exposition est l’occasion idéale de plonger dans un univers artistique et technologique qui réinvente notre imaginaire collectif.
URL:https://bibliotheque.unicaen.fr/evenement/dimensions-pop-culture/
LOCATION:Caen · Campus 2 · BU Rosalind-Franklin\, BU Rosalind-Franklin\, Campus 2\, Côte de Nacre\, Boulevard Maréchal Juin\, Caen\, 14032\, France
CATEGORIES:Exposition
ATTACH;FMTTYPE=image/jpeg:https://bibliotheque.unicaen.fr/wp-content/uploads/sites/8/2025/01/UNICAEN_SCD_dimensions_pop_culture.jpg
END:VEVENT
BEGIN:VEVENT
DTSTART;TZID=Europe/Paris:20250113T000000
DTEND;TZID=Europe/Paris:20250209T235959
DTSTAMP:20260422T014037
CREATED:20241216T084006Z
LAST-MODIFIED:20250130T130503Z
UID:52556-1736726400-1739145599@bibliotheque.unicaen.fr
SUMMARY:Casse-couilles ? Et si la contraception testiculaire cassait les codes ?
DESCRIPTION:Cette exposition a pour volonté de questionner les habitudes et les rapports de genre qui se jouent dans la répartition ou non-répartition de la charge contraceptive. Elle met en scène le cheminement de Jil et Jo\, deux personnages\, nés avec des ovaires pour l’une et des testicules pour l’autre\, en quête d’une autre contraception. \n\n\n\nConçue par Pauline Dancin\, et illustrée par Bobika (dessinateur et auteur de Le Cœur des zobs)\, cette exposition est présentée en partenariat avec ASSUREIPSS. \n\n\n\nAnimations sur la contraception\n\n\n\n\nles jeudis de 12h à 18h \n\n\n\nles vendredis de 12h à 14h\n\n\n\n\n\nsur inscription auprès de assureipss@gmail.com \n\n\n\n\nInauguration de l’exposition\n\n\n\nMercredi 15 Janvier 2025 à 18hAuditorium du PFRS – Campus 5 \n\n\n\n\nsur inscription auprès de assureipss@gmail.com
URL:https://bibliotheque.unicaen.fr/evenement/casse-couilles-et-si-la-contraception-testiculaire-cassait-les-codes/
LOCATION:Caen · Campus 5 · BU Madeleine-Brès\, BU Madeleine-Brès\, 2 Rue des Rochambelles\, Caen\, 14000\, France
CATEGORIES:Exposition
ATTACH;FMTTYPE=image/png:https://bibliotheque.unicaen.fr/wp-content/uploads/sites/8/2024/12/UNICAEN_SCD_Expo_Casse-couilles.png
END:VEVENT
BEGIN:VEVENT
DTSTART;TZID=Europe/Paris:20250124T090000
DTEND;TZID=Europe/Paris:20250214T180000
DTSTAMP:20260422T014037
CREATED:20250122T121130Z
LAST-MODIFIED:20250206T112506Z
UID:52841-1737709200-1739556000@bibliotheque.unicaen.fr
SUMMARY:Valencia
DESCRIPTION:Exposition photo à la BU Blanche-Maupas dans le cadre de la 35e Cinemovida\, le festival de l’association Mancha (Mouvement d’Amitié Normand pour la Culture Hispano-Américaine) \n\n\n\nPhotographies de Laurence Anne \n\n\n\nAprès les événements dramatiques qui ont affecté Valence et sa province\, ces photos rappellent les beautés de la ville et de sa région. \n\n\n\nTroisième ville d’Espagne\, Valence est entourée d’espaces naturels remarquables comme la Albufera et la Huerta. Son patrimoine architectural comprend des monuments futuristes comme la fameuse Cité des Sciences dessinée par l’architecte Calatrava.
URL:https://bibliotheque.unicaen.fr/evenement/valencia/
LOCATION:Cherbourg-en-Cotentin · BU Blanche-Maupas\, Bibliothèque Universitaire Blanche Maupas\, Rue Max Pol Fouchet\, Cherbourg-en-Cotentin\, 50130\, France
CATEGORIES:Exposition,Vie de campus
ATTACH;FMTTYPE=image/jpeg:https://bibliotheque.unicaen.fr/wp-content/uploads/sites/8/2025/01/UNICAEN_SCD_BUBM-Cinemovida.jpg
END:VEVENT
BEGIN:VEVENT
DTSTART;TZID=Europe/Paris:20250206T103000
DTEND;TZID=Europe/Paris:20250206T120000
DTSTAMP:20260422T014037
CREATED:20240919T090026Z
LAST-MODIFIED:20240919T090821Z
UID:51889-1738837800-1738843200@bibliotheque.unicaen.fr
SUMMARY:Rédiger un data paper
DESCRIPTION:Défini par l’INIST comme « une publication scientifique dont le but principal est de décrire un ou plusieurs jeux de données\, plutôt que des résultats d’analyse »\, le data paper s’impose progressivement comme une nouvelle modalité de valoriser ses travaux de recherche. \n\n\n\nCet atelier\, d’une durée de 1h30\, vise à présenter ce que sont les data papers et les modalités pratiques de leur rédaction. Il s’adresse à tous les chercheurs\, enseignants-chercheurs\, doctorants et personnels de recherche qui souhaitent être informés et se faire accompagner sur cette thématique. \n\n\n\nAu programme\n\n\n\n\nDéfinir un data paper\n\n\n\nIdentifier les revues ou data journals où vous pourrez publier votre data paper\n\n\n\nÉnumérer les éléments méthodologiques pour rédiger un data paper\n\n\n\nMobiliser les personnes ressources pour rédiger un data paper\n\n\n\n\n\n\nRetrouvez toutes les dates des formations sur la science ouverte sur la page dédiée.
URL:https://bibliotheque.unicaen.fr/evenement/rediger-un-data-paper-4/
CATEGORIES:Atelier,Science ouverte
ATTACH;FMTTYPE=image/jpeg:https://bibliotheque.unicaen.fr/wp-content/uploads/sites/8/2024/09/UNICAEN_SCD-ADN_module_data-papers-e1726563977528.jpg
END:VEVENT
END:VCALENDAR