BEGIN:VCALENDAR
VERSION:2.0
PRODID:-//Bibliothèque universitaire - ECPv6.15.18//NONSGML v1.0//EN
CALSCALE:GREGORIAN
METHOD:PUBLISH
X-ORIGINAL-URL:https://bibliotheque.unicaen.fr
X-WR-CALDESC:Évènements pour Bibliothèque universitaire
REFRESH-INTERVAL;VALUE=DURATION:PT1H
X-Robots-Tag:noindex
X-PUBLISHED-TTL:PT1H
BEGIN:VTIMEZONE
TZID:Europe/Paris
BEGIN:DAYLIGHT
TZOFFSETFROM:+0100
TZOFFSETTO:+0200
TZNAME:CEST
DTSTART:20250330T010000
END:DAYLIGHT
BEGIN:STANDARD
TZOFFSETFROM:+0200
TZOFFSETTO:+0100
TZNAME:CET
DTSTART:20251026T010000
END:STANDARD
BEGIN:DAYLIGHT
TZOFFSETFROM:+0100
TZOFFSETTO:+0200
TZNAME:CEST
DTSTART:20260329T010000
END:DAYLIGHT
BEGIN:STANDARD
TZOFFSETFROM:+0200
TZOFFSETTO:+0100
TZNAME:CET
DTSTART:20261025T010000
END:STANDARD
BEGIN:DAYLIGHT
TZOFFSETFROM:+0100
TZOFFSETTO:+0200
TZNAME:CEST
DTSTART:20270328T010000
END:DAYLIGHT
BEGIN:STANDARD
TZOFFSETFROM:+0200
TZOFFSETTO:+0100
TZNAME:CET
DTSTART:20271031T010000
END:STANDARD
END:VTIMEZONE
BEGIN:VEVENT
DTSTART;TZID=Europe/Paris:20260420T090000
DTEND;TZID=Europe/Paris:20260420T110000
DTSTAMP:20260421T041334
CREATED:20251009T080045Z
LAST-MODIFIED:20251009T080047Z
UID:89781-1776675600-1776682800@bibliotheque.unicaen.fr
SUMMARY:Sensibilisation aux données de la recherche
DESCRIPTION:Séance en anglais\n\n\n\n\n\n\n\n\n\nL’adoption de bonnes pratiques dans la gestion de leurs données s’impose de plus en plus comme un besoin pour les chercheurs soucieux d’inscrire leur activité dans une démarche de science ouverte. La structuration\, le partage et l’ouverture des données de la recherche sont ainsi un des quatre axes du deuxième Plan national pour la science ouverte. \n\n\n\nCette formation s’adresse à tous les chercheurs\, enseignants-chercheurs\, doctorants et personnels de recherche qui souhaitent se faire accompagner sur cette thématique. \n\n\n\nProgramme\n\n\n\n\nContexte et enjeux autour des données de la recherche\n\n\n\nCycle de vie des données et principes d’ouverture\n\n\n\nLe cadre éthique et juridique des données de la recherche\n\n\n\nLa gestion des données au quotidien (métadonnées\, stockage\, partage et archivage\, publier ses données\, plans de gestion de données)\n\n\n\n\n\n\nProgramme complet des ateliers Science ouverte
URL:https://bibliotheque.unicaen.fr/evenement/sensibilisation-aux-donnees-de-la-recherche-46/
LOCATION:En visioconférence
CATEGORIES:Atelier,Recherche,Science ouverte
ATTACH;FMTTYPE=image/jpeg:https://bibliotheque.unicaen.fr/wp-content/uploads/sites/8/2024/09/UNICAEN_SCD-ADN_module_sensibilisation-e1726564013983.jpg
END:VEVENT
BEGIN:VEVENT
DTSTART;TZID=Europe/Paris:20260416T160000
DTEND;TZID=Europe/Paris:20260416T180000
DTSTAMP:20260421T041334
CREATED:20251202T130740Z
LAST-MODIFIED:20260414T093025Z
UID:90116-1776355200-1776362400@bibliotheque.unicaen.fr
SUMMARY:Atelier Zotero (santé)
DESCRIPTION:Finies les références d’articles ou de livres notées sur un bout de papier ou dans un fichier. Passez à Zotero\, logiciel de gestion bibliographique libre et gratuit ! \n\n\n\nDans le but de bien préparer votre atelier\, veuillez prendre connaissance des pré-requis obligatoires à cet atelier sur notre page Zotero \n\n\n\nUtilisez le bouton Réserver ci-dessous pour vous inscrire à cette date d’atelierVous recevrez une confirmation de votre inscription par mailLes inscriptions sont ouvertes 3 mois à l’avance \n\n\n\nRetrouvez toutes les dates des ateliers sur la page dédiée \n\n\n\nAtelier de 2 heures – 8 participants par atelier maximum
URL:https://bibliotheque.unicaen.fr/evenement/atelier-zotero-sante-10/
LOCATION:Caen · Campus 5 · BU Madeleine-Brès · Salle de formation\, BU Madeleine-Brès\, 2 Rue des Rochambelles\, Caen\, 14000\, France
CATEGORIES:Atelier
ATTACH;FMTTYPE=image/jpeg:https://bibliotheque.unicaen.fr/wp-content/uploads/sites/8/2022/07/UNICAEN_SCD_Service-Zotero_2022-07-161000x400-1.jpg
END:VEVENT
BEGIN:VEVENT
DTSTART;TZID=Europe/Paris:20260416T123000
DTEND;TZID=Europe/Paris:20260416T133000
DTSTAMP:20260421T041334
CREATED:20260126T134217Z
LAST-MODIFIED:20260202T151520Z
UID:90559-1776342600-1776346200@bibliotheque.unicaen.fr
SUMMARY:Approfondissement des bases documentaires en santé
DESCRIPTION:Profitez de la pause du midi pour réviser la méthodologie de la recherche documentaire en santé. \n\n\n\nObjectifs\n\n\n\nPour une formation à la recherche documentaire en vue de la thèse d’exercice\, se reporter à : Ateliers Thèse en santé (PubMed\, etc)Pour une formation à l’utilisation de Zotero (gestionnaire de références bibliographiques)\, se reporter à : Ateliers Zotéro-santé \n\n\n\n\nConnaître les contenus spécifiques des bases de données en santé\, choisir les bases les plus adaptées à son sujet.\n\n\n\nOptimiser son interrogation des bases.\n\n\n\nSavoir accéder au texte des articles repérés.\n\n\n\n\nProgramme\n\n\n\nPrioritairement destiné aux étudiants paramédicaux\, cet atelier d’1h est ouvert à toutes et tous. \n\n\n\n\nRappels :  étapes d’une recherche documentaire\, construction des requête\, notamment en utilisant la recherche avancée et les opérateurs booléens (ET\, OU\, SAUF)\n\n\n\nInterrogation des bases : ex : ClinicalKey Student\, Cairn\, Lissa.\n\n\n\nMoteur de recherche scientifique : Google Scholar\, couplé avec l’extension de navigateur Click and Read\n\n\n\n\nInfos pratiques\n\n\n\nVenez avec votre PC portable. \n\n\n\nRendez-vous à l’accueil de la BU Madeleine-Brès.
URL:https://bibliotheque.unicaen.fr/evenement/approfondissement-des-bases-documentaires-en-sante-22/
LOCATION:Caen · Campus 5 · BU Madeleine-Brès\, BU Madeleine-Brès\, 2 Rue des Rochambelles\, Caen\, 14000\, France
CATEGORIES:Atelier
ATTACH;FMTTYPE=image/jpeg:https://bibliotheque.unicaen.fr/wp-content/uploads/sites/8/2025/09/UNICAEN_SCD_Ateliers_Recherche_doc_Soin.jpg
END:VEVENT
BEGIN:VEVENT
DTSTART;TZID=Europe/Paris:20260415T133000
DTEND;TZID=Europe/Paris:20260415T170000
DTSTAMP:20260421T041334
CREATED:20260105T122643Z
LAST-MODIFIED:20260109T142713Z
UID:90261-1776259800-1776272400@bibliotheque.unicaen.fr
SUMMARY:Permanences d'accès au droit
DESCRIPTION:Gratuites\, ces permanences sont ouvertes aux étudiants et personnels UNICAEN\, mais également à toute personne extérieure à l’université. Elles sont assurées par des professionnels du droit. \n\n\n\nPour demander un rendez-vous et exposer sa question ou son problème juridique : \n\n\n\n\ncontacter le 02 50 10 13 07 du lundi au vendredi de 8h45 à 12h et de 13h30 à 16h30 ;\n\n\n\nécrire à contact@cdad14.fr et indiquer son numéro de téléphone et ses disponibilités pour pouvoir être recontacté-e.\n\n\n\n\n\n\n \n\n\n\n\nLes permanences du Conseil départemental de l’accès au droit du Calvados (CDAD 14) ont lieu deux fois par mois à la bibliothèque Pierre-Sineux (salle 0)\, le mercredi de 13h30 à 17h. \n\n\n\n\nAccessible avec ou sans rendez-vous. \n\n\n\nRetrouver toutes les dates des prochaines permanences d’accès au droit sur cette page
URL:https://bibliotheque.unicaen.fr/evenement/permanences-dacces-au-droit-62/
LOCATION:Caen · Campus 1 · BU Pierre-Sineux\, Bibliothèque Universitaire Pierre-Sineux\, Esplanade de la Paix\, Caen\, 14000\, France
CATEGORIES:Accès au droit,Autres
ATTACH;FMTTYPE=image/jpeg:https://bibliotheque.unicaen.fr/wp-content/uploads/sites/8/2022/08/Permanences-droit-1000-400.jpg
END:VEVENT
BEGIN:VEVENT
DTSTART;TZID=Europe/Paris:20260415T123000
DTEND;TZID=Europe/Paris:20260415T133000
DTSTAMP:20260421T041334
CREATED:20260126T134146Z
LAST-MODIFIED:20260202T151520Z
UID:90558-1776256200-1776259800@bibliotheque.unicaen.fr
SUMMARY:Approfondissement des bases documentaires en santé
DESCRIPTION:Profitez de la pause du midi pour réviser la méthodologie de la recherche documentaire en santé. \n\n\n\nObjectifs\n\n\n\nPour une formation à la recherche documentaire en vue de la thèse d’exercice\, se reporter à : Ateliers Thèse en santé (PubMed\, etc)Pour une formation à l’utilisation de Zotero (gestionnaire de références bibliographiques)\, se reporter à : Ateliers Zotéro-santé \n\n\n\n\nConnaître les contenus spécifiques des bases de données en santé\, choisir les bases les plus adaptées à son sujet.\n\n\n\nOptimiser son interrogation des bases.\n\n\n\nSavoir accéder au texte des articles repérés.\n\n\n\n\nProgramme\n\n\n\nPrioritairement destiné aux étudiants paramédicaux\, cet atelier d’1h est ouvert à toutes et tous. \n\n\n\n\nRappels :  étapes d’une recherche documentaire\, construction des requête\, notamment en utilisant la recherche avancée et les opérateurs booléens (ET\, OU\, SAUF)\n\n\n\nInterrogation des bases : ex : ClinicalKey Student\, Cairn\, Lissa.\n\n\n\nMoteur de recherche scientifique : Google Scholar\, couplé avec l’extension de navigateur Click and Read\n\n\n\n\nInfos pratiques\n\n\n\nVenez avec votre PC portable. \n\n\n\nRendez-vous à l’accueil de la BU Madeleine-Brès.
URL:https://bibliotheque.unicaen.fr/evenement/approfondissement-des-bases-documentaires-en-sante-21/
LOCATION:Caen · Campus 5 · BU Madeleine-Brès\, BU Madeleine-Brès\, 2 Rue des Rochambelles\, Caen\, 14000\, France
CATEGORIES:Atelier
ATTACH;FMTTYPE=image/jpeg:https://bibliotheque.unicaen.fr/wp-content/uploads/sites/8/2025/09/UNICAEN_SCD_Ateliers_Recherche_doc_Soin.jpg
END:VEVENT
BEGIN:VEVENT
DTSTART;TZID=Europe/Paris:20260410T140000
DTEND;TZID=Europe/Paris:20260410T150000
DTSTAMP:20260421T041334
CREATED:20251010T123458Z
LAST-MODIFIED:20251010T123459Z
UID:89840-1775829600-1775833200@bibliotheque.unicaen.fr
SUMMARY:Atelier HAL – IdHAL / CV HAL
DESCRIPTION:Cet atelier à distance d’une durée d’une heure accompagne à la création de l’IdHAL et du CV HAL. \n\n\n\nCet atelier est organisé par la cellule d’appui HAL Normandie.  \n\n\n\nProposé uniquement sous la forme de visioconférences\, il accompagne les chercheurs dans la création et le paramétrage de leur identifiant dans HAL\, l’IdHAL. Une fois que cet identifiant a été créé\, il devient possible d’éditer un CV HAL.  \n\n\n\nDes conseils pratiques sur la création du CV HAL sont ensuite délivrés. Ce CV HAL pourra dès lors être valorisé par le chercheur\, par exemple sur les pages présentant les membres de son unité de recherche. \n\n\n\n\n\nProgramme complet des ateliers Science ouverte
URL:https://bibliotheque.unicaen.fr/evenement/atelier-hal-idhal-cv-hal-2/
LOCATION:En visioconférence
CATEGORIES:Atelier,Recherche,Science ouverte
ATTACH;FMTTYPE=image/jpeg:https://bibliotheque.unicaen.fr/wp-content/uploads/sites/8/2023/09/HAL_formation_2023_ACTU.jpg
END:VEVENT
BEGIN:VEVENT
DTSTART;TZID=Europe/Paris:20260409T123000
DTEND;TZID=Europe/Paris:20260409T133000
DTSTAMP:20260421T041334
CREATED:20260126T134116Z
LAST-MODIFIED:20260202T151520Z
UID:90557-1775737800-1775741400@bibliotheque.unicaen.fr
SUMMARY:Approfondissement des bases documentaires en santé
DESCRIPTION:Profitez de la pause du midi pour réviser la méthodologie de la recherche documentaire en santé. \n\n\n\nObjectifs\n\n\n\nPour une formation à la recherche documentaire en vue de la thèse d’exercice\, se reporter à : Ateliers Thèse en santé (PubMed\, etc)Pour une formation à l’utilisation de Zotero (gestionnaire de références bibliographiques)\, se reporter à : Ateliers Zotéro-santé \n\n\n\n\nConnaître les contenus spécifiques des bases de données en santé\, choisir les bases les plus adaptées à son sujet.\n\n\n\nOptimiser son interrogation des bases.\n\n\n\nSavoir accéder au texte des articles repérés.\n\n\n\n\nProgramme\n\n\n\nPrioritairement destiné aux étudiants paramédicaux\, cet atelier d’1h est ouvert à toutes et tous. \n\n\n\n\nRappels :  étapes d’une recherche documentaire\, construction des requête\, notamment en utilisant la recherche avancée et les opérateurs booléens (ET\, OU\, SAUF)\n\n\n\nInterrogation des bases : ex : ClinicalKey Student\, Cairn\, Lissa.\n\n\n\nMoteur de recherche scientifique : Google Scholar\, couplé avec l’extension de navigateur Click and Read\n\n\n\n\nInfos pratiques\n\n\n\nVenez avec votre PC portable. \n\n\n\nRendez-vous à l’accueil de la BU Madeleine-Brès.
URL:https://bibliotheque.unicaen.fr/evenement/approfondissement-des-bases-documentaires-en-sante-20/
LOCATION:Caen · Campus 5 · BU Madeleine-Brès\, BU Madeleine-Brès\, 2 Rue des Rochambelles\, Caen\, 14000\, France
CATEGORIES:Atelier
ATTACH;FMTTYPE=image/jpeg:https://bibliotheque.unicaen.fr/wp-content/uploads/sites/8/2025/09/UNICAEN_SCD_Ateliers_Recherche_doc_Soin.jpg
END:VEVENT
BEGIN:VEVENT
DTSTART;TZID=Europe/Paris:20260408T140000
DTEND;TZID=Europe/Paris:20260408T160000
DTSTAMP:20260421T041334
CREATED:20251008T113121Z
LAST-MODIFIED:20251014T100357Z
UID:89723-1775656800-1775664000@bibliotheque.unicaen.fr
SUMMARY:Formation à HAL
DESCRIPTION:Des ateliers de deux heures avec une partie théorique sur l’open access puis une partie pratique sur l’utilisation de HAL. \n\n\n\nProgramme\n\n\n\n1. De l’Open Access à l’Open Science\n\n\n\n2. En France\, l’archive ouverte HAL\n\n\n\n\nQu’est ce que HAL ?\n\n\n\nHAL et les réseaux sociaux académiques\n\n\n\nLe portail HAL Normandie Université\n\n\n\n\n3. Utiliser HAL\, pas à pas\n\n\n\n\nQuels documents déposer ?\n\n\n\nConnaître ses droits\n\n\n\nCréer son compte\n\n\n\nCréer son IdHAL\n\n\n\nDéposer un document\n\n\n\n\n4. Valoriser ses dépôts\n\n\n\n\nCréer son CV\n\n\n\nLes collections\n\n\n\n\nDurée de la formation : 2h \n\n\n\n\n\nProgramme complet des ateliers Science ouverte
URL:https://bibliotheque.unicaen.fr/evenement/formation-a-hal-6/
LOCATION:En visioconférence
CATEGORIES:Atelier,Recherche,Science ouverte
ATTACH;FMTTYPE=image/jpeg:https://bibliotheque.unicaen.fr/wp-content/uploads/sites/8/2025/10/UNICAEN_SCD-HAL_formation_2025_2026_1000x400.jpg
END:VEVENT
BEGIN:VEVENT
DTSTART;TZID=Europe/Paris:20260408T130000
DTEND;TZID=Europe/Paris:20260408T140000
DTSTAMP:20260421T041334
CREATED:20250929T090155Z
LAST-MODIFIED:20260414T093332Z
UID:89456-1775653200-1775656800@bibliotheque.unicaen.fr
SUMMARY:Atelier Zotero (SHS)
DESCRIPTION:Finies les références d’articles ou de livres notées sur un bout de papier ou dans un fichier. Passez à Zotero\, logiciel de gestion bibliographique libre et gratuit ! \n\n\n\nDans le but de bien préparer votre atelier\, veuillez prendre connaissance des pré-requis obligatoires à cet atelier sur notre page Zotero \n\n\n\nUtilisez le bouton Réserver ci-dessous pour vous inscrire à cette date d’atelierVous recevrez une confirmation de votre inscription par mailLes inscriptions sont ouvertes 3 mois à l’avance \n\n\n\nRetrouvez toutes les dates des ateliers sur la page dédiée \n\n\n\nAtelier de 1 heures – 6 participants par atelier maximum
URL:https://bibliotheque.unicaen.fr/evenement/atelier-zotero-shs-22/
LOCATION:Caen · Campus 1 · BU Pierre-Sineux · Learning Lab\, Bibliothèque Universitaire Pierre-Sineux Campus 1\, Université de Caen Normandie\, Esplanade de la Paix\, Caen\, 14000\, France
CATEGORIES:Atelier
ATTACH;FMTTYPE=image/jpeg:https://bibliotheque.unicaen.fr/wp-content/uploads/sites/8/2022/07/UNICAEN_SCD_Service-Zotero_2022-07-161000x400-1.jpg
ORGANIZER;CN="Service commun de la documentation":MAILTO:bibliotheque@unicaen.fr
END:VEVENT
BEGIN:VEVENT
DTSTART;TZID=Europe/Paris:20260408T123000
DTEND;TZID=Europe/Paris:20260408T133000
DTSTAMP:20260421T041334
CREATED:20260126T134041Z
LAST-MODIFIED:20260202T151520Z
UID:90556-1775651400-1775655000@bibliotheque.unicaen.fr
SUMMARY:Approfondissement des bases documentaires en santé
DESCRIPTION:Profitez de la pause du midi pour réviser la méthodologie de la recherche documentaire en santé. \n\n\n\nObjectifs\n\n\n\nPour une formation à la recherche documentaire en vue de la thèse d’exercice\, se reporter à : Ateliers Thèse en santé (PubMed\, etc)Pour une formation à l’utilisation de Zotero (gestionnaire de références bibliographiques)\, se reporter à : Ateliers Zotéro-santé \n\n\n\n\nConnaître les contenus spécifiques des bases de données en santé\, choisir les bases les plus adaptées à son sujet.\n\n\n\nOptimiser son interrogation des bases.\n\n\n\nSavoir accéder au texte des articles repérés.\n\n\n\n\nProgramme\n\n\n\nPrioritairement destiné aux étudiants paramédicaux\, cet atelier d’1h est ouvert à toutes et tous. \n\n\n\n\nRappels :  étapes d’une recherche documentaire\, construction des requête\, notamment en utilisant la recherche avancée et les opérateurs booléens (ET\, OU\, SAUF)\n\n\n\nInterrogation des bases : ex : ClinicalKey Student\, Cairn\, Lissa.\n\n\n\nMoteur de recherche scientifique : Google Scholar\, couplé avec l’extension de navigateur Click and Read\n\n\n\n\nInfos pratiques\n\n\n\nVenez avec votre PC portable. \n\n\n\nRendez-vous à l’accueil de la BU Madeleine-Brès.
URL:https://bibliotheque.unicaen.fr/evenement/approfondissement-des-bases-documentaires-en-sante-19/
LOCATION:Caen · Campus 5 · BU Madeleine-Brès\, BU Madeleine-Brès\, 2 Rue des Rochambelles\, Caen\, 14000\, France
CATEGORIES:Atelier
ATTACH;FMTTYPE=image/jpeg:https://bibliotheque.unicaen.fr/wp-content/uploads/sites/8/2025/09/UNICAEN_SCD_Ateliers_Recherche_doc_Soin.jpg
END:VEVENT
BEGIN:VEVENT
DTSTART;TZID=Europe/Paris:20260408T103000
DTEND;TZID=Europe/Paris:20260408T123000
DTSTAMP:20260421T041334
CREATED:20251009T072933Z
LAST-MODIFIED:20251009T072935Z
UID:89776-1775644200-1775651400@bibliotheque.unicaen.fr
SUMMARY:Sensibilisation aux données de la recherche
DESCRIPTION:L’adoption de bonnes pratiques dans la gestion de leurs données s’impose de plus en plus comme un besoin pour les chercheurs soucieux d’inscrire leur activité dans une démarche de science ouverte. La structuration\, le partage et l’ouverture des données de la recherche sont ainsi un des quatre axes du deuxième Plan national pour la science ouverte. \n\n\n\nCette formation s’adresse à tous les chercheurs\, enseignants-chercheurs\, doctorants et personnels de recherche qui souhaitent se faire accompagner sur cette thématique. \n\n\n\nProgramme\n\n\n\n\nContexte et enjeux autour des données de la recherche\n\n\n\nCycle de vie des données et principes d’ouverture\n\n\n\nLe cadre éthique et juridique des données de la recherche\n\n\n\nLa gestion des données au quotidien (métadonnées\, stockage\, partage et archivage\, publier ses données\, plans de gestion de données)\n\n\n\n\n\n\nProgramme complet des ateliers Science ouverte
URL:https://bibliotheque.unicaen.fr/evenement/sensibilisation-aux-donnees-de-la-recherche-44/
LOCATION:En visioconférence
CATEGORIES:Atelier,Recherche,Science ouverte
ATTACH;FMTTYPE=image/jpeg:https://bibliotheque.unicaen.fr/wp-content/uploads/sites/8/2024/09/UNICAEN_SCD-ADN_module_sensibilisation-e1726564013983.jpg
END:VEVENT
BEGIN:VEVENT
DTSTART;TZID=Europe/Paris:20260403T090000
DTEND;TZID=Europe/Paris:20260403T120000
DTSTAMP:20260421T041334
CREATED:20251202T104429Z
LAST-MODIFIED:20260414T094356Z
UID:90054-1775206800-1775217600@bibliotheque.unicaen.fr
SUMMARY:Atelier Thèse en santé : PubMed\, etc.
DESCRIPTION:3h pour devenir efficace dans vos recherches bibliographiques en vue de la thèse d’exercice\n\n\n\nObjectifs\n\n\n\nPour la recherche documentaire en vue du mémoire dans les filières paramédicales\, se reporter à : Approfondissement des bases documentaires en santéPour une formation à l’utilisation de Zotero (gestionnaire de références bibliographiques)\, se reporter à : Ateliers Zotéro-santé \n\n\n\nSavoir accéder au texte des articles repérés  \n\n\n\nMaîtriser l’interrogation des ressources incontournables pour la thèse \n\n\n\nOptimiser son interrogation du web \n\n\n\nProgramme\n\n\n\n\nApprendre à construire une requête\, notamment en utilisant la recherche avancée et les opérateurs booléens (ET\, OU\, SAUF)\n\n\n\nRechercher des thèses et des livres : interrogation du catalogue Sudoc\n\n\n\nRechercher des références d’articles scientifiques : interrogation des grandes bases internationales : PubMed\, ScienceDirect.\n\n\n\nRechercher des données issues des institutions publiques (HAS\, DREES\, etc.) : recherche optimisée sur Google\n\n\n\nAccéder au plein-texte des articles\, dès que c’est possible : installation de l’extension de navigateur Click and Read\n\n\n\n\nInscriptions\n\n\n\nUtilisez le bouton Réserver ci-dessous pour vous inscrire : inscriptions ouvertes 3 mois à l’avance.Lieu : BU Madeleine-BrèsVenez avec votre PC portable + vos identifiants UNICAEN (compte numérique) \n\n\n\nVous recevrez une confirmation de votre inscription par mail.15 participants par atelier maximum. \n\n\n\nVoir toutes les dates disponibles
URL:https://bibliotheque.unicaen.fr/evenement/atelier-these-en-sante-pubmed-etc-5/
LOCATION:Caen · Campus 5 · BU Madeleine-Brès · Salle de formation\, BU Madeleine-Brès\, 2 Rue des Rochambelles\, Caen\, 14000\, France
CATEGORIES:Atelier
ATTACH;FMTTYPE=image/png:https://bibliotheque.unicaen.fr/wp-content/uploads/sites/8/2022/11/UNICAEN_SCD_Pubmed-1000-400.png
END:VEVENT
END:VCALENDAR