BEGIN:VCALENDAR
VERSION:2.0
PRODID:-//Bibliothèque universitaire - ECPv6.15.18//NONSGML v1.0//EN
CALSCALE:GREGORIAN
METHOD:PUBLISH
X-WR-CALNAME:Bibliothèque universitaire
X-ORIGINAL-URL:https://bibliotheque.unicaen.fr
X-WR-CALDESC:Évènements pour Bibliothèque universitaire
REFRESH-INTERVAL;VALUE=DURATION:PT1H
X-Robots-Tag:noindex
X-PUBLISHED-TTL:PT1H
BEGIN:VTIMEZONE
TZID:Europe/Paris
BEGIN:DAYLIGHT
TZOFFSETFROM:+0100
TZOFFSETTO:+0200
TZNAME:CEST
DTSTART:20250330T010000
END:DAYLIGHT
BEGIN:STANDARD
TZOFFSETFROM:+0200
TZOFFSETTO:+0100
TZNAME:CET
DTSTART:20251026T010000
END:STANDARD
BEGIN:DAYLIGHT
TZOFFSETFROM:+0100
TZOFFSETTO:+0200
TZNAME:CEST
DTSTART:20260329T010000
END:DAYLIGHT
BEGIN:STANDARD
TZOFFSETFROM:+0200
TZOFFSETTO:+0100
TZNAME:CET
DTSTART:20261025T010000
END:STANDARD
BEGIN:DAYLIGHT
TZOFFSETFROM:+0100
TZOFFSETTO:+0200
TZNAME:CEST
DTSTART:20270328T010000
END:DAYLIGHT
BEGIN:STANDARD
TZOFFSETFROM:+0200
TZOFFSETTO:+0100
TZNAME:CET
DTSTART:20271031T010000
END:STANDARD
END:VTIMEZONE
BEGIN:VEVENT
DTSTART;TZID=Europe/Paris:20260521T140000
DTEND;TZID=Europe/Paris:20260521T160000
DTSTAMP:20260424T180013
CREATED:20251008T140349Z
LAST-MODIFIED:20251014T100531Z
UID:89734-1779372000-1779379200@bibliotheque.unicaen.fr
SUMMARY:Projets financés – Respecter les obligations Science ouverte 
DESCRIPTION:Cet atelier de deux heures s’adresse aux porteurs de projets financés et les accompagne dans l’ouverture des publications scientifique du projet et la rédaction du PGD. \n\n\n\nQue ce soit au niveau européen ou au niveau national\, les financeurs de la recherche renforcent progressivement leurs exigences de respect des principes de la science ouverte\, en contrepartie des financements accordés.Afin d’aider les porteurs de projets normands à répondre à ces exigences\, la cellule d’appui HAL Normandie et l’Atelier de la donnée en Normandie proposent une séance de formation apportant une aide pratique aussi bien dans l’ouverture des publications que dans la rédaction du plan de gestion de données. D’une durée de deux heures\, elle est proposée sous forme de visioconférences et peut être organisée à la demande pour les équipes de recherche intéressées. \n\n\n\nProgramme\n\n\n\n\nPublier en libre accès – les obligations des financeurs\n\n\n\nPublier en libre accès – les outils pour vous accompagner\n\n\n\nPublier en libre accès – signaler le financement\n\n\n\nDonnées de la recherche – les obligations des financeurs\n\n\n\nLe plan de gestion de données – principes\n\n\n\nLe plan de gestion de données – outils et conseils pratiques\n\n\n\n\n\n\nProgramme complet des ateliers Science ouverte
URL:https://bibliotheque.unicaen.fr/evenement/projets-finances-respecter-les-obligations-science-ouverte-6/
LOCATION:En visioconférence
CATEGORIES:Atelier,Recherche,Science ouverte
ATTACH;FMTTYPE=image/jpeg:https://bibliotheque.unicaen.fr/wp-content/uploads/sites/8/2025/10/UNICAEN_SCD-projets_-finances_1000x400.jpg
END:VEVENT
BEGIN:VEVENT
DTSTART;TZID=Europe/Paris:20260521T160000
DTEND;TZID=Europe/Paris:20260521T180000
DTSTAMP:20260424T180013
CREATED:20251202T130848Z
LAST-MODIFIED:20260414T093040Z
UID:90118-1779379200-1779386400@bibliotheque.unicaen.fr
SUMMARY:Atelier Zotero (santé)
DESCRIPTION:Finies les références d’articles ou de livres notées sur un bout de papier ou dans un fichier. Passez à Zotero\, logiciel de gestion bibliographique libre et gratuit ! \n\n\n\nDans le but de bien préparer votre atelier\, veuillez prendre connaissance des pré-requis obligatoires à cet atelier sur notre page Zotero \n\n\n\nUtilisez le bouton Réserver ci-dessous pour vous inscrire à cette date d’atelierVous recevrez une confirmation de votre inscription par mailLes inscriptions sont ouvertes 3 mois à l’avance \n\n\n\nRetrouvez toutes les dates des ateliers sur la page dédiée \n\n\n\nAtelier de 2 heures – 8 participants par atelier maximum
URL:https://bibliotheque.unicaen.fr/evenement/atelier-zotero-sante-11/
LOCATION:Caen · Campus 5 · BU Madeleine-Brès · Salle de formation\, BU Madeleine-Brès\, 2 Rue des Rochambelles\, Caen\, 14000\, France
CATEGORIES:Atelier
ATTACH;FMTTYPE=image/jpeg:https://bibliotheque.unicaen.fr/wp-content/uploads/sites/8/2022/07/UNICAEN_SCD_Service-Zotero_2022-07-161000x400-1.jpg
END:VEVENT
BEGIN:VEVENT
DTSTART;TZID=Europe/Paris:20260527T123000
DTEND;TZID=Europe/Paris:20260527T133000
DTSTAMP:20260424T180013
CREATED:20260126T134717Z
LAST-MODIFIED:20260202T151522Z
UID:90579-1779885000-1779888600@bibliotheque.unicaen.fr
SUMMARY:Approfondissement des bases documentaires en santé
DESCRIPTION:Profitez de la pause du midi pour réviser la méthodologie de la recherche documentaire en santé. \n\n\n\nObjectifs\n\n\n\nPour une formation à la recherche documentaire en vue de la thèse d’exercice\, se reporter à : Ateliers Thèse en santé (PubMed\, etc)Pour une formation à l’utilisation de Zotero (gestionnaire de références bibliographiques)\, se reporter à : Ateliers Zotéro-santé \n\n\n\n\nConnaître les contenus spécifiques des bases de données en santé\, choisir les bases les plus adaptées à son sujet.\n\n\n\nOptimiser son interrogation des bases.\n\n\n\nSavoir accéder au texte des articles repérés.\n\n\n\n\nProgramme\n\n\n\nPrioritairement destiné aux étudiants paramédicaux\, cet atelier d’1h est ouvert à toutes et tous. \n\n\n\n\nRappels :  étapes d’une recherche documentaire\, construction des requête\, notamment en utilisant la recherche avancée et les opérateurs booléens (ET\, OU\, SAUF)\n\n\n\nInterrogation des bases : ex : ClinicalKey Student\, Cairn\, Lissa.\n\n\n\nMoteur de recherche scientifique : Google Scholar\, couplé avec l’extension de navigateur Click and Read\n\n\n\n\nInfos pratiques\n\n\n\nVenez avec votre PC portable. \n\n\n\nRendez-vous à l’accueil de la BU Madeleine-Brès.
URL:https://bibliotheque.unicaen.fr/evenement/approfondissement-des-bases-documentaires-en-sante-30/
LOCATION:Caen · Campus 5 · BU Madeleine-Brès\, BU Madeleine-Brès\, 2 Rue des Rochambelles\, Caen\, 14000\, France
CATEGORIES:Atelier
ATTACH;FMTTYPE=image/jpeg:https://bibliotheque.unicaen.fr/wp-content/uploads/sites/8/2025/09/UNICAEN_SCD_Ateliers_Recherche_doc_Soin.jpg
END:VEVENT
BEGIN:VEVENT
DTSTART;TZID=Europe/Paris:20260527T133000
DTEND;TZID=Europe/Paris:20260527T170000
DTSTAMP:20260424T180013
CREATED:20260105T123018Z
LAST-MODIFIED:20260109T143454Z
UID:90266-1779888600-1779901200@bibliotheque.unicaen.fr
SUMMARY:Permanences d'accès au droit
DESCRIPTION:Gratuites\, ces permanences sont ouvertes aux étudiants et personnels UNICAEN\, mais également à toute personne extérieure à l’université. Elles sont assurées par des professionnels du droit. \n\n\n\nPour demander un rendez-vous et exposer sa question ou son problème juridique : \n\n\n\n\ncontacter le 02 50 10 13 07 du lundi au vendredi de 8h45 à 12h et de 13h30 à 16h30 ;\n\n\n\nécrire à contact@cdad14.fr et indiquer son numéro de téléphone et ses disponibilités pour pouvoir être recontacté-e.\n\n\n\n\n\n\n \n\n\n\n\nLes permanences du Conseil départemental de l’accès au droit du Calvados (CDAD 14) ont lieu deux fois par mois à la bibliothèque Pierre-Sineux (salle 0)\, le mercredi de 13h30 à 17h. \n\n\n\n\nAccessible avec ou sans rendez-vous. \n\n\n\nRetrouver toutes les dates des prochaines permanences d’accès au droit sur cette page
URL:https://bibliotheque.unicaen.fr/evenement/permanences-dacces-au-droit-64/
LOCATION:Caen · Campus 1 · BU Pierre-Sineux\, Bibliothèque Universitaire Pierre-Sineux\, Esplanade de la Paix\, Caen\, 14000\, France
CATEGORIES:Accès au droit,Autres
ATTACH;FMTTYPE=image/jpeg:https://bibliotheque.unicaen.fr/wp-content/uploads/sites/8/2022/08/Permanences-droit-1000-400.jpg
END:VEVENT
BEGIN:VEVENT
DTSTART;TZID=Europe/Paris:20260528T123000
DTEND;TZID=Europe/Paris:20260528T133000
DTSTAMP:20260424T180013
CREATED:20260126T134831Z
LAST-MODIFIED:20260126T134833Z
UID:90582-1779971400-1779975000@bibliotheque.unicaen.fr
SUMMARY:Approfondissement des bases documentaires en santé
DESCRIPTION:Profitez de la pause du midi pour réviser la méthodologie de la recherche documentaire en santé. \n\n\n\nObjectifs\n\n\n\nPour une formation à la recherche documentaire en vue de la thèse d’exercice\, se reporter à : Ateliers Thèse en santé (PubMed\, etc)Pour une formation à l’utilisation de Zotero (gestionnaire de références bibliographiques)\, se reporter à : Ateliers Zotéro-santé \n\n\n\n\nConnaître les contenus spécifiques des bases de données en santé\, choisir les bases les plus adaptées à son sujet.\n\n\n\nOptimiser son interrogation des bases.\n\n\n\nSavoir accéder au texte des articles repérés.\n\n\n\n\nProgramme\n\n\n\nPrioritairement destiné aux étudiants paramédicaux\, cet atelier d’1h est ouvert à toutes et tous. \n\n\n\n\nRappels :  étapes d’une recherche documentaire\, construction des requête\, notamment en utilisant la recherche avancée et les opérateurs booléens (ET\, OU\, SAUF)\n\n\n\nInterrogation des bases : ex : ClinicalKey Student\, Cairn\, Lissa.\n\n\n\nMoteur de recherche scientifique : Google Scholar\, couplé avec l’extension de navigateur Click and Read\n\n\n\n\nInfos pratiques\n\n\n\nVenez avec votre PC portable. \n\n\n\nRendez-vous à l’accueil de la BU Madeleine-Brès.
URL:https://bibliotheque.unicaen.fr/evenement/approfondissement-des-bases-documentaires-en-sante-31/
LOCATION:Caen · Campus 5 · BU Madeleine-Brès\, BU Madeleine-Brès\, 2 Rue des Rochambelles\, Caen\, 14000\, France
CATEGORIES:Atelier
ATTACH;FMTTYPE=image/jpeg:https://bibliotheque.unicaen.fr/wp-content/uploads/sites/8/2025/09/UNICAEN_SCD_Ateliers_Recherche_doc_Soin.jpg
END:VEVENT
BEGIN:VEVENT
DTSTART;TZID=Europe/Paris:20260529T090000
DTEND;TZID=Europe/Paris:20260529T120000
DTSTAMP:20260424T180013
CREATED:20251202T105054Z
LAST-MODIFIED:20260414T094549Z
UID:90060-1780045200-1780056000@bibliotheque.unicaen.fr
SUMMARY:Atelier Thèse en santé : PubMed\, etc.
DESCRIPTION:3h pour devenir efficace dans vos recherches bibliographiques\, en vue de la thèse d’exercice \n\n\n\nObjectifs\n\n\n\nPour la recherche documentaire en vue du mémoire dans les filières paramédicales\, se reporter à : Approfondissement des bases documentaires en santéPour une formation à l’utilisation de Zotero (gestionnaire de références bibliographiques)\, se reporter à : Ateliers Zotéro-santé \n\n\n\nSavoir accéder au texte des articles repérés  \n\n\n\nMaîtriser l’interrogation des ressources incontournables pour la thèse \n\n\n\nOptimiser son interrogation du web \n\n\n\nProgramme\n\n\n\n\nApprendre à construire une requête\, notamment en utilisant la recherche avancée et les opérateurs booléens (ET\, OU\, SAUF)\n\n\n\nRechercher des thèses et des livres : interrogation du catalogue Sudoc\n\n\n\nRechercher des références d’articles scientifiques : interrogation des grandes bases internationales : PubMed\, ScienceDirect.\n\n\n\nRechercher des données issues des institutions publiques (HAS\, DREES\, etc.) : recherche optimisée sur Google\n\n\n\nAccéder au plein-texte des articles\, dès que c’est possible : installation de l’extension de navigateur Click and Read\n\n\n\n\nInscriptions\n\n\n\nUtilisez le bouton Réserver ci-dessous pour vous inscrire : inscriptions ouvertes 3 mois à l’avance.Lieu : BU Madeleine-BrèsVenez avec votre PC portable + vos identifiants UNICAEN (compte numérique) \n\n\n\nVous recevrez une confirmation de votre inscription par mail.15 participants par atelier maximum. \n\n\n\nVoir toutes les dates disponibles
URL:https://bibliotheque.unicaen.fr/evenement/atelier-these-en-sante-pubmed-etc-8/
LOCATION:Caen · Campus 5 · BU Madeleine-Brès · Salle de formation\, BU Madeleine-Brès\, 2 Rue des Rochambelles\, Caen\, 14000\, France
CATEGORIES:Atelier
ATTACH;FMTTYPE=image/png:https://bibliotheque.unicaen.fr/wp-content/uploads/sites/8/2022/11/UNICAEN_SCD_Pubmed-1000-400.png
END:VEVENT
BEGIN:VEVENT
DTSTART;TZID=Europe/Paris:20260601T140000
DTEND;TZID=Europe/Paris:20260601T160000
DTSTAMP:20260424T180013
CREATED:20251202T130340Z
LAST-MODIFIED:20260414T092028Z
UID:90108-1780322400-1780329600@bibliotheque.unicaen.fr
SUMMARY:Atelier Zotero (santé)
DESCRIPTION:Finies les références d’articles ou de livres notées sur un bout de papier ou dans un fichier. Passez à Zotero\, logiciel de gestion bibliographique libre et gratuit ! \n\n\n\nDans le but de bien préparer votre atelier\, veuillez prendre connaissance des pré-requis obligatoires à cet atelier sur notre page Zotero \n\n\n\nUtilisez le bouton Réserver ci-dessous pour vous inscrire à cette date d’atelierVous recevrez une confirmation de votre inscription par mailLes inscriptions sont ouvertes 3 mois à l’avance \n\n\n\nRetrouvez toutes les dates des ateliers sur la page dédiée \n\n\n\nAtelier de 2 heures – 8 participants par atelier maximum
URL:https://bibliotheque.unicaen.fr/evenement/atelier-zotero-sante-7/
LOCATION:Caen · Campus 5 · BU Madeleine-Brès · Salle de formation\, BU Madeleine-Brès\, 2 Rue des Rochambelles\, Caen\, 14000\, France
CATEGORIES:Atelier
ATTACH;FMTTYPE=image/jpeg:https://bibliotheque.unicaen.fr/wp-content/uploads/sites/8/2022/07/UNICAEN_SCD_Service-Zotero_2022-07-161000x400-1.jpg
END:VEVENT
BEGIN:VEVENT
DTSTART;TZID=Europe/Paris:20260603T123000
DTEND;TZID=Europe/Paris:20260603T133000
DTSTAMP:20260424T180013
CREATED:20260126T140559Z
LAST-MODIFIED:20260126T140601Z
UID:90584-1780489800-1780493400@bibliotheque.unicaen.fr
SUMMARY:Approfondissement des bases documentaires en santé
DESCRIPTION:Profitez de la pause du midi pour réviser la méthodologie de la recherche documentaire en santé. \n\n\n\nObjectifs\n\n\n\nPour une formation à la recherche documentaire en vue de la thèse d’exercice\, se reporter à : Ateliers Thèse en santé (PubMed\, etc)Pour une formation à l’utilisation de Zotero (gestionnaire de références bibliographiques)\, se reporter à : Ateliers Zotéro-santé \n\n\n\n\nConnaître les contenus spécifiques des bases de données en santé\, choisir les bases les plus adaptées à son sujet.\n\n\n\nOptimiser son interrogation des bases.\n\n\n\nSavoir accéder au texte des articles repérés.\n\n\n\n\nProgramme\n\n\n\nPrioritairement destiné aux étudiants paramédicaux\, cet atelier d’1h est ouvert à toutes et tous. \n\n\n\n\nRappels :  étapes d’une recherche documentaire\, construction des requête\, notamment en utilisant la recherche avancée et les opérateurs booléens (ET\, OU\, SAUF)\n\n\n\nInterrogation des bases : ex : ClinicalKey Student\, Cairn\, Lissa.\n\n\n\nMoteur de recherche scientifique : Google Scholar\, couplé avec l’extension de navigateur Click and Read\n\n\n\n\nInfos pratiques\n\n\n\nVenez avec votre PC portable. \n\n\n\nRendez-vous à l’accueil de la BU Madeleine-Brès.
URL:https://bibliotheque.unicaen.fr/evenement/approfondissement-des-bases-documentaires-en-sante-32/
LOCATION:Caen · Campus 5 · BU Madeleine-Brès\, BU Madeleine-Brès\, 2 Rue des Rochambelles\, Caen\, 14000\, France
CATEGORIES:Atelier
ATTACH;FMTTYPE=image/jpeg:https://bibliotheque.unicaen.fr/wp-content/uploads/sites/8/2025/09/UNICAEN_SCD_Ateliers_Recherche_doc_Soin.jpg
END:VEVENT
BEGIN:VEVENT
DTSTART;TZID=Europe/Paris:20260603T133000
DTEND;TZID=Europe/Paris:20260603T170000
DTSTAMP:20260424T180013
CREATED:20260105T123122Z
LAST-MODIFIED:20260109T143743Z
UID:90269-1780493400-1780506000@bibliotheque.unicaen.fr
SUMMARY:Permanences d'accès au droit
DESCRIPTION:Gratuites\, ces permanences sont ouvertes aux étudiants et personnels UNICAEN\, mais également à toute personne extérieure à l’université. Elles sont assurées par des professionnels du droit. \n\n\n\nPour demander un rendez-vous et exposer sa question ou son problème juridique : \n\n\n\n\ncontacter le 02 50 10 13 07 du lundi au vendredi de 8h45 à 12h et de 13h30 à 16h30 ;\n\n\n\nécrire à contact@cdad14.fr et indiquer son numéro de téléphone et ses disponibilités pour pouvoir être recontacté-e.\n\n\n\n\n\n\n \n\n\n\n\nLes permanences du Conseil départemental de l’accès au droit du Calvados (CDAD 14) ont lieu deux fois par mois à la bibliothèque Pierre-Sineux (salle 0)\, le mercredi de 13h30 à 17h. \n\n\n\n\nAccessible avec ou sans rendez-vous. \n\n\n\nRetrouver toutes les dates des prochaines permanences d’accès au droit sur cette page
URL:https://bibliotheque.unicaen.fr/evenement/permanences-dacces-au-droit-65/
LOCATION:Caen · Campus 1 · BU Pierre-Sineux\, Bibliothèque Universitaire Pierre-Sineux\, Esplanade de la Paix\, Caen\, 14000\, France
CATEGORIES:Accès au droit,Autres
ATTACH;FMTTYPE=image/jpeg:https://bibliotheque.unicaen.fr/wp-content/uploads/sites/8/2022/08/Permanences-droit-1000-400.jpg
END:VEVENT
BEGIN:VEVENT
DTSTART;TZID=Europe/Paris:20260604T123000
DTEND;TZID=Europe/Paris:20260604T133000
DTSTAMP:20260424T180013
CREATED:20260126T140626Z
LAST-MODIFIED:20260126T140628Z
UID:90585-1780576200-1780579800@bibliotheque.unicaen.fr
SUMMARY:Approfondissement des bases documentaires en santé
DESCRIPTION:Profitez de la pause du midi pour réviser la méthodologie de la recherche documentaire en santé. \n\n\n\nObjectifs\n\n\n\nPour une formation à la recherche documentaire en vue de la thèse d’exercice\, se reporter à : Ateliers Thèse en santé (PubMed\, etc)Pour une formation à l’utilisation de Zotero (gestionnaire de références bibliographiques)\, se reporter à : Ateliers Zotéro-santé \n\n\n\n\nConnaître les contenus spécifiques des bases de données en santé\, choisir les bases les plus adaptées à son sujet.\n\n\n\nOptimiser son interrogation des bases.\n\n\n\nSavoir accéder au texte des articles repérés.\n\n\n\n\nProgramme\n\n\n\nPrioritairement destiné aux étudiants paramédicaux\, cet atelier d’1h est ouvert à toutes et tous. \n\n\n\n\nRappels :  étapes d’une recherche documentaire\, construction des requête\, notamment en utilisant la recherche avancée et les opérateurs booléens (ET\, OU\, SAUF)\n\n\n\nInterrogation des bases : ex : ClinicalKey Student\, Cairn\, Lissa.\n\n\n\nMoteur de recherche scientifique : Google Scholar\, couplé avec l’extension de navigateur Click and Read\n\n\n\n\nInfos pratiques\n\n\n\nVenez avec votre PC portable. \n\n\n\nRendez-vous à l’accueil de la BU Madeleine-Brès.
URL:https://bibliotheque.unicaen.fr/evenement/approfondissement-des-bases-documentaires-en-sante-33/
LOCATION:Caen · Campus 5 · BU Madeleine-Brès\, BU Madeleine-Brès\, 2 Rue des Rochambelles\, Caen\, 14000\, France
CATEGORIES:Atelier
ATTACH;FMTTYPE=image/jpeg:https://bibliotheque.unicaen.fr/wp-content/uploads/sites/8/2025/09/UNICAEN_SCD_Ateliers_Recherche_doc_Soin.jpg
END:VEVENT
BEGIN:VEVENT
DTSTART;TZID=Europe/Paris:20260608T090000
DTEND;TZID=Europe/Paris:20260608T120000
DTSTAMP:20260424T180013
CREATED:20251202T105221Z
LAST-MODIFIED:20260414T094606Z
UID:90062-1780909200-1780920000@bibliotheque.unicaen.fr
SUMMARY:Atelier Thèse en santé : PubMed\, etc.
DESCRIPTION:3h pour devenir efficace dans vos recherches bibliographiques\, en vue de la thèse d’exercice \n\n\n\nObjectifs\n\n\n\nPour la recherche documentaire en vue du mémoire dans les filières paramédicales\, se reporter à : Approfondissement des bases documentaires en santéPour une formation à l’utilisation de Zotero (gestionnaire de références bibliographiques)\, se reporter à : Ateliers Zotéro-santé \n\n\n\nSavoir accéder au texte des articles repérés  \n\n\n\nMaîtriser l’interrogation des ressources incontournables pour la thèse \n\n\n\nOptimiser son interrogation du web \n\n\n\nProgramme\n\n\n\n\nApprendre à construire une requête\, notamment en utilisant la recherche avancée et les opérateurs booléens (ET\, OU\, SAUF)\n\n\n\nRechercher des thèses et des livres : interrogation du catalogue Sudoc\n\n\n\nRechercher des références d’articles scientifiques : interrogation des grandes bases internationales : PubMed\, ScienceDirect.\n\n\n\nRechercher des données issues des institutions publiques (HAS\, DREES\, etc.) : recherche optimisée sur Google\n\n\n\nAccéder au plein-texte des articles\, dès que c’est possible : installation de l’extension de navigateur Click and Read\n\n\n\n\nInscriptions\n\n\n\nUtilisez le bouton Réserver ci-dessous pour vous inscrire : inscriptions ouvertes 3 mois à l’avance.Lieu : BU Madeleine-BrèsVenez avec votre PC portable + vos identifiants UNICAEN (compte numérique) \n\n\n\nVous recevrez une confirmation de votre inscription par mail.15 participants par atelier maximum. \n\n\n\nVoir toutes les dates disponibles
URL:https://bibliotheque.unicaen.fr/evenement/atelier-these-en-sante-pubmed-etc-9/
LOCATION:Caen · Campus 5 · BU Madeleine-Brès · Salle de formation\, BU Madeleine-Brès\, 2 Rue des Rochambelles\, Caen\, 14000\, France
CATEGORIES:Atelier
ATTACH;FMTTYPE=image/png:https://bibliotheque.unicaen.fr/wp-content/uploads/sites/8/2022/11/UNICAEN_SCD_Pubmed-1000-400.png
END:VEVENT
BEGIN:VEVENT
DTSTART;TZID=Europe/Paris:20260609T090000
DTEND;TZID=Europe/Paris:20260609T164500
DTSTAMP:20260424T180013
CREATED:20260320T162507Z
LAST-MODIFIED:20260320T162547Z
UID:91396-1780995600-1781023500@bibliotheque.unicaen.fr
SUMMARY:Journée d’étude de l’Atelier de la donnée en Normandie
DESCRIPTION:Mardi 9 juin 2026\, l’Atelier de la donnée en Normandie organisera à Caen sa première journée d’étude\, depuis sa labellisation en septembre 2023\, dans le cadre de l’écosystème Recherche Data Gouv. \n\n\n\nCette journée d’étude permettra à tous les participants d’avoir une vue complète sur les diverses manières dont l’Atelier de la donnée en Normandie s’engage dans le partage et l’ouverture des données de la recherche\, en s’appuyant notamment sur les retours d’expérience de chercheurs ayant bénéficié d’un accompagnement sur des projets variés. Elle apportera également des éclairages sur l’écosystème national des données de la recherche et les grands enjeux qui le constituent actuellement\, avec une intervention de la directrice nationale des données de la recherche Véronique Stoll et une table ronde sur les tensions entre l’ouverture des données et leur valorisation économique. \n\n\n\nDifférents partenaires de l’Atelier de la donnée en Normandie (centres de compétences Recherche Data Gouv\, acteurs régionaux de la donnée…) viendront présenter leur activité lors d’ateliers ouverts\, qui permettront de faciliter les échanges entre tous les participants. \n\n\n\nLa journée d’étude s’adresse à tous les personnels de recherche et d’appui à la recherche\, quelle que soit leur discipline\, impliqués dans la gestion des données de la recherche. \n\n\n\nL’inscription est gratuite mais obligatoire.  \n\n\n\nPour le déjeuner\, un buffet sera offert aux participants. \n\n\n\nINSCRIPTIONS ET DÉTAILS DU PROGRAMME
URL:https://bibliotheque.unicaen.fr/evenement/journee-detude-de-latelier-de-la-donnee-en-normandie/
ATTACH;FMTTYPE=image/jpeg:https://bibliotheque.unicaen.fr/wp-content/uploads/sites/8/2026/03/SCD_ADN_Journee-etude-2026-scaled-scaled-e1775145235655.jpg
END:VEVENT
END:VCALENDAR