BEGIN:VCALENDAR
VERSION:2.0
PRODID:-//Bibliothèque universitaire - ECPv6.15.18//NONSGML v1.0//EN
CALSCALE:GREGORIAN
METHOD:PUBLISH
X-WR-CALNAME:Bibliothèque universitaire
X-ORIGINAL-URL:https://bibliotheque.unicaen.fr
X-WR-CALDESC:Évènements pour Bibliothèque universitaire
REFRESH-INTERVAL;VALUE=DURATION:PT1H
X-Robots-Tag:noindex
X-PUBLISHED-TTL:PT1H
BEGIN:VTIMEZONE
TZID:Europe/Paris
BEGIN:DAYLIGHT
TZOFFSETFROM:+0100
TZOFFSETTO:+0200
TZNAME:CEST
DTSTART:20230326T010000
END:DAYLIGHT
BEGIN:STANDARD
TZOFFSETFROM:+0200
TZOFFSETTO:+0100
TZNAME:CET
DTSTART:20231029T010000
END:STANDARD
BEGIN:DAYLIGHT
TZOFFSETFROM:+0100
TZOFFSETTO:+0200
TZNAME:CEST
DTSTART:20240331T010000
END:DAYLIGHT
BEGIN:STANDARD
TZOFFSETFROM:+0200
TZOFFSETTO:+0100
TZNAME:CET
DTSTART:20241027T010000
END:STANDARD
BEGIN:DAYLIGHT
TZOFFSETFROM:+0100
TZOFFSETTO:+0200
TZNAME:CEST
DTSTART:20250330T010000
END:DAYLIGHT
BEGIN:STANDARD
TZOFFSETFROM:+0200
TZOFFSETTO:+0100
TZNAME:CET
DTSTART:20251026T010000
END:STANDARD
END:VTIMEZONE
BEGIN:VEVENT
DTSTART;TZID=Europe/Paris:20240208T000000
DTEND;TZID=Europe/Paris:20240606T235959
DTSTAMP:20260423T142919
CREATED:20240221T101728Z
LAST-MODIFIED:20240227T131554Z
UID:50243-1707350400-1717718399@bibliotheque.unicaen.fr
SUMMARY:Habiter là - Exposition BU Olympe de Gouges
DESCRIPTION:La BU Olympe-de-Gouges accueille une sélection des œuvres du collectif d’artistes créé pour le projet « Habiter là » : Marie-Noëlle Deverre\, Giulia Torelli et Michel Bidet et des œuvres d’enfants issues de la pédagogie d’initiation (Association Germaine Tortel). \n\n\n\nVoir les horaires de la BU
URL:https://bibliotheque.unicaen.fr/evenement/habiter-la-exposition-bu-olympe-de-gouges/
LOCATION:Alençon · BU Olympe-de-Gouges\, Bibliothèque universitaire Olympe-de-Gouges\, Montfoulon\, Damigny\, 61250\, France
CATEGORIES:Exposition,Vie de campus
ATTACH;FMTTYPE=image/jpeg:https://bibliotheque.unicaen.fr/wp-content/uploads/sites/8/2024/02/Expo_Habiter_la_BUOG.jpg
END:VEVENT
BEGIN:VEVENT
DTSTART;TZID=Europe/Paris:20240212T000000
DTEND;TZID=Europe/Paris:20240315T235959
DTSTAMP:20260423T142919
CREATED:20240212T133705Z
LAST-MODIFIED:20240229T143907Z
UID:50156-1707696000-1710547199@bibliotheque.unicaen.fr
SUMMARY:Partage et solidarité\, entre France et Togo
DESCRIPTION:L’équipe de Togoban\, association de solidarité international d’étudiantes en orthophonie\, a réalisé de nombreuses photographies\, lors de son voyage au Togo en juin 2023.   \n\n\n\nLes participantes en ont tiré une exposition\, où l’on découvre les projets réalisés sur place\, ainsi que des moments de vie dans le pays.  \n\n\n\nLa bonne humeur et la convivialité ressenties par les participantes\, ressortent de ces images.
URL:https://bibliotheque.unicaen.fr/evenement/partage-et-solidarite-entre-france-et-togo/
LOCATION:Caen · Campus 5 · BU Madeleine-Brès\, BU Madeleine-Brès\, 2 Rue des Rochambelles\, Caen\, 14000\, France
CATEGORIES:Exposition
ATTACH;FMTTYPE=image/jpeg:https://bibliotheque.unicaen.fr/wp-content/uploads/sites/8/2024/02/UNICAEN_SCD_TOGOBAN_Expo.jpg
END:VEVENT
BEGIN:VEVENT
DTSTART;TZID=Europe/Paris:20240305T090000
DTEND;TZID=Europe/Paris:20240305T110000
DTSTAMP:20260423T142919
CREATED:20230915T152734Z
LAST-MODIFIED:20230918T084342Z
UID:48588-1709629200-1709636400@bibliotheque.unicaen.fr
SUMMARY:Sensibilisation aux données de la recherche
DESCRIPTION:Pour vous inscrire à cette formation cliquer sur inscription (formulaire en bas de la page)
URL:https://bibliotheque.unicaen.fr/evenement/sensibilisation-aux-donnees-de-la-recherche-22/
LOCATION:Caen · Campus 2 · BU Rosalind-Franklin\, BU Rosalind-Franklin\, Campus 2\, Côte de Nacre\, Boulevard Maréchal Juin\, Caen\, 14032\, France
CATEGORIES:Atelier,Science ouverte
ATTACH;FMTTYPE=image/jpeg:https://bibliotheque.unicaen.fr/wp-content/uploads/sites/8/2023/09/Sensib-donnees-rech-2023-24.jpg
ORGANIZER;CN="Service commun de la documentation":MAILTO:bibliotheque@unicaen.fr
END:VEVENT
BEGIN:VEVENT
DTSTART;TZID=Europe/Paris:20240306T100000
DTEND;TZID=Europe/Paris:20240306T113000
DTSTAMP:20260423T142919
CREATED:20231205T144106Z
LAST-MODIFIED:20231205T144154Z
UID:49636-1709719200-1709724600@bibliotheque.unicaen.fr
SUMMARY:Les entrepôts de données de recherche
DESCRIPTION:Pour vous inscrire à cette formation cliquer sur inscription (formulaire en bas de la page)
URL:https://bibliotheque.unicaen.fr/evenement/les-entrepots-de-donnees-de-recherche-2/
LOCATION:Caen · Campus 1 · BU Pierre-Sineux\, Bibliothèque Universitaire Pierre-Sineux\, Esplanade de la Paix\, Caen\, 14000\, France
CATEGORIES:Atelier,Science ouverte
ATTACH;FMTTYPE=image/jpeg:https://bibliotheque.unicaen.fr/wp-content/uploads/sites/8/2023/12/entrepots-donnees-recherche.jpg
END:VEVENT
BEGIN:VEVENT
DTSTART;TZID=Europe/Paris:20240306T130000
DTEND;TZID=Europe/Paris:20240306T140000
DTSTAMP:20260423T142919
CREATED:20230920T095118Z
LAST-MODIFIED:20260413T143559Z
UID:48730-1709730000-1709733600@bibliotheque.unicaen.fr
SUMMARY:Fake News
DESCRIPTION:Les fake news\, fausses informations diffusées dans les médias\, font désormais partie du paysage informationnel\, et il devient nécessaire d’apprendre à les identifier.  \n\n\n\nLa bibliothèque universitaire vous propose donc un atelier d’une heure\, libre et gratuit sur le sujet. \n\n\n\nA l’issue de cet atelier\, vous serez en mesure de  \n\n\n\n\nComprendre la place des infox dans notre environnement informationnel\n\n\n\nDécrypter les informations douteuses\n\n\n\nAppréhender les biais cognitifs qui peuvent altérer le jugement\n\n\n\n\nInscriptions \n\n\n\nLes inscriptions sont ouvertes 3 mois à l’avance
URL:https://bibliotheque.unicaen.fr/evenement/fake-news-9/
LOCATION:Caen · Campus 1 · BU Pierre-Sineux · Learning Lab\, Bibliothèque Universitaire Pierre-Sineux Campus 1\, Université de Caen Normandie\, Esplanade de la Paix\, Caen\, 14000\, France
CATEGORIES:Atelier
ATTACH;FMTTYPE=image/jpeg:https://bibliotheque.unicaen.fr/wp-content/uploads/sites/8/2023/09/UNICAEN_SCD_Ateliers_fake_news_2023.jpg
END:VEVENT
BEGIN:VEVENT
DTSTART;TZID=Europe/Paris:20240306T160000
DTEND;TZID=Europe/Paris:20240306T180000
DTSTAMP:20260423T142919
CREATED:20231012T095324Z
LAST-MODIFIED:20240123T155759Z
UID:49113-1709740800-1709748000@bibliotheque.unicaen.fr
SUMMARY:Ateliers jeux - BU Rosalind Franklin
DESCRIPTION:Animation permettant de sensibiliser au jeu et à la pratique ludique de jeux de règles\, coopératifs et de loisir\, mais aussi pour se détendre\, s’évader\, rêver en découvrant et partageant de nouveaux univers. \n\n\n\nUn mercredi sur deuxde 16h à 18hEspace jeux\, au rez-de-chaussée\n\n\n\nAccès à l’atelier sans inscription \n\n\n\nIntervenant\n\n\n\nVia Ludis \n\n\n\nLes dates\n\n\n\nLe dernier atelier jeux de l’année \n\n\n\nLes stages et ateliers gratuits Unicaen\n\n\n\nToutes les pratiques artistiques \n\n\n\nDANS LA MÊME CATÉGORIE
URL:https://bibliotheque.unicaen.fr/evenement/ateliers-jeux-bu-rosalind-franklin-7/
LOCATION:Caen · Campus 2 · BU Rosalind-Franklin\, BU Rosalind-Franklin\, Campus 2\, Côte de Nacre\, Boulevard Maréchal Juin\, Caen\, 14032\, France
CATEGORIES:Autres,Vie de campus
ATTACH;FMTTYPE=image/jpeg:https://bibliotheque.unicaen.fr/wp-content/uploads/sites/8/2023/10/Ateliers-jeux.jpg
END:VEVENT
BEGIN:VEVENT
DTSTART;TZID=Europe/Paris:20240307T090000
DTEND;TZID=Europe/Paris:20240307T103000
DTSTAMP:20260423T142919
CREATED:20231204T121055Z
LAST-MODIFIED:20231204T121056Z
UID:49617-1709802000-1709807400@bibliotheque.unicaen.fr
SUMMARY:Diffuser ses données grâce aux data paper
DESCRIPTION:Pour vous inscrire à cette formation cliquer sur inscription (formulaire en bas de la page)
URL:https://bibliotheque.unicaen.fr/evenement/diffuser-ses-donnees-grace-aux-data-paper-2/
CATEGORIES:Atelier,Science ouverte
ATTACH;FMTTYPE=image/jpeg:https://bibliotheque.unicaen.fr/wp-content/uploads/sites/8/2023/12/Atelier-Data-Paper.jpg
END:VEVENT
BEGIN:VEVENT
DTSTART;TZID=Europe/Paris:20240311T000000
DTEND;TZID=Europe/Paris:20240323T235959
DTSTAMP:20260423T142919
CREATED:20240227T143719Z
LAST-MODIFIED:20240307T094201Z
UID:50275-1710115200-1711238399@bibliotheque.unicaen.fr
SUMMARY:1er Grand Prix Paragolf de Caen-la-Mer [Exposition]
DESCRIPTION:Découvrez une sélection de photographies prises à l’occasion du 1er Grand Prix Paragolf de Caen-la-Mer. \n\n\n\nPhotographies de Camille Leforestier (ancienne étudiante du Master APAS) et l’association sportive du golf de Caen-la-Mer \n\n\n\nRetrouvez les prochaines animations du festival [En]Quête de Sciences
URL:https://bibliotheque.unicaen.fr/evenement/1er-grand-prix-paragolf-de-caen-la-mer/
LOCATION:Caen · Campus 2 · BU Rosalind-Franklin\, BU Rosalind-Franklin\, Campus 2\, Côte de Nacre\, Boulevard Maréchal Juin\, Caen\, 14032\, France
CATEGORIES:EnQuête de Sciences,Exposition,Vie de campus
ATTACH;FMTTYPE=image/jpeg:https://bibliotheque.unicaen.fr/wp-content/uploads/sites/8/2024/03/UNICAEN_SCD-Expo-Paragolf.jpg
END:VEVENT
BEGIN:VEVENT
DTSTART;TZID=Europe/Paris:20240311T110000
DTEND;TZID=Europe/Paris:20240311T130000
DTSTAMP:20260423T142919
CREATED:20230928T072838Z
LAST-MODIFIED:20240719T072000Z
UID:48947-1710154800-1710162000@bibliotheque.unicaen.fr
SUMMARY:Atelier HAL : en visio
DESCRIPTION:L’atelier comporte une partie théorique sur le libre accès\, la science ouverte et les questions d’ordre juridique puis aborde une partie pratique où les participants pourront créer leur compte\, paramétrer leur profil et leur IdHAL ainsi que procéder à un dépôt. \n1. De l’Open Access à l’Open Science\n2. En France\, l’archive ouverte HAL\n\nQu’est ce que HAL ?\nHAL et les réseaux sociaux académiques\nLe portail HAL Normandie Université\n\n3. Utiliser HAL\, pas à pas\n\nQuels documents déposer ?\nConnaître ses droits\nCréer son compte\nCréer son IdHAL\nDéposer un document\n\n4. Valoriser ses dépôts\n\nCréer son CV\nLes collections\n\n\n\nDurée de la formation : 2h\nLe support de formation en anglais a été réalisé avec le soutien de la Région Normandie. \nCalendrier et inscription\nPour vous inscrire\, remplissez le formulaire en cliquant sur inscription \nSi vous n’êtes pas disponible pour cette session\, retrouverez toutes les dates des ateliers HAL sur la page dédiée
URL:https://bibliotheque.unicaen.fr/evenement/atelier-hal-en-visio-6/
CATEGORIES:Atelier,Science ouverte
ATTACH;FMTTYPE=image/jpeg:https://bibliotheque.unicaen.fr/wp-content/uploads/sites/8/2023/09/HAL_formation_2023_ACTU.jpg
ORGANIZER;CN="Service commun de la documentation":MAILTO:bibliotheque@unicaen.fr
END:VEVENT
BEGIN:VEVENT
DTSTART;TZID=Europe/Paris:20240311T113000
DTEND;TZID=Europe/Paris:20240311T133000
DTSTAMP:20260423T142919
CREATED:20240229T100624Z
LAST-MODIFIED:20240718T080046Z
UID:50292-1710156600-1710163800@bibliotheque.unicaen.fr
SUMMARY:Atelier HoloLens
DESCRIPTION:L’HoloLens est une technologie immersive dite de « réalité mixte »\, qui associe des contenus virtuels au monde réel. Concrètement\, l’utilisateur est équipé d’un casque doté d’une visière transparente\, de caméras embarquées et de capteurs de mouvements. L’utilisateur a les mains libres et\, grâce à une série de mouvements prédéfinis (ouverture et fermeture de la main\, tape sur le poignet ou encore écartement des doigts)\, il peut interagir avec l’objet virtuel – l’agrandir\, le rétrécir\, le faire tourner\, l’ouvrir… Tout ça\, sans être coupé du monde extérieur : les lunettes étant transparentes\, l’objet virtuel se superpose à l’environnement réel. À la différence d’un casque de réalité virtuelle\, l’utilisateur n’est pas plongé dans un univers artificiel. Il ne perd pas ses repères : il voit et entend ce qui se passe autour de lui\, ce qui facilite les échanges avec le reste du groupe mais assure également sa sécurité quant aux objets qui l’entourent. Les caméras embarquées permettent aussi de suivre l’expérience de l’utilisateur\, que ce soit en présentiel ou à distance. Dans le cadre du festival [En]Quête de science\, venez découvrir cette technologie innovante. \n\n\n\n\nAnimations organisées sur plusieurs campus \n\n\n\n\nCaen\, Campus 1\, CEMU\, Bâtiment B\, 3e étage\, salle 252\n\n\n\nCaen\, Campus 2\, BU Rosalind-Franklin\n\n\n\nIfs\, Campus 3\, IUT Info-Com\, « La Rue » (Hall)\n\n\n\n\n\n\n\nContact : damien.leroy@unicaen.fr \n\n\n\nAteliers animés par l’équipe du CEMU \n\n\n\nRetrouvez les prochaines animations du festival [En]Quête de Sciences
URL:https://bibliotheque.unicaen.fr/evenement/atelier-hololens/
CATEGORIES:EnQuête de Sciences,Vie de campus
ATTACH;FMTTYPE=image/jpeg:https://bibliotheque.unicaen.fr/wp-content/uploads/sites/8/2024/03/UNICAEN_SCD-Hololens-scaled-e1709806296744.jpg
END:VEVENT
BEGIN:VEVENT
DTSTART;TZID=Europe/Paris:20240311T153000
DTEND;TZID=Europe/Paris:20240311T170000
DTSTAMP:20260423T142919
CREATED:20240301T101122Z
LAST-MODIFIED:20240307T095051Z
UID:50298-1710171000-1710176400@bibliotheque.unicaen.fr
SUMMARY:Présentation du dispositif HoloLens
DESCRIPTION:L’HoloLens est une technologie innovante et immersive dite de « réalité mixte »\, qui associe des contenus virtuels au monde réel. \n\n\n\nAtelier animé par l’équipe du CEMU \n\n\n\nRetrouvez les prochaines animations du festival [En]Quête de Sciences
URL:https://bibliotheque.unicaen.fr/evenement/presentation-du-dispositif-hololens/
LOCATION:Caen · Campus 2 · BU Rosalind-Franklin\, BU Rosalind-Franklin\, Campus 2\, Côte de Nacre\, Boulevard Maréchal Juin\, Caen\, 14032\, France
CATEGORIES:EnQuête de Sciences,Vie de campus
ATTACH;FMTTYPE=image/jpeg:https://bibliotheque.unicaen.fr/wp-content/uploads/sites/8/2024/03/UNICAEN_SCD-Hololens-scaled-e1709806296744.jpg
END:VEVENT
BEGIN:VEVENT
DTSTART;TZID=Europe/Paris:20240312T090000
DTEND;TZID=Europe/Paris:20240312T110000
DTSTAMP:20260423T142919
CREATED:20230915T153031Z
LAST-MODIFIED:20230918T084326Z
UID:48590-1710234000-1710241200@bibliotheque.unicaen.fr
SUMMARY:Sensibilisation aux données de la recherche
DESCRIPTION:Pour vous inscrire à cette formation cliquer sur inscription (formulaire en bas de la page)Atelier en visioconférence
URL:https://bibliotheque.unicaen.fr/evenement/sensibilisation-aux-donnees-de-la-recherche-23/
CATEGORIES:Atelier,Science ouverte
ATTACH;FMTTYPE=image/jpeg:https://bibliotheque.unicaen.fr/wp-content/uploads/sites/8/2023/09/Sensib-donnees-rech-2023-24.jpg
ORGANIZER;CN="Service commun de la documentation":MAILTO:bibliotheque@unicaen.fr
END:VEVENT
END:VCALENDAR