BEGIN:VCALENDAR
VERSION:2.0
PRODID:-//Bibliothèque universitaire - ECPv6.15.18//NONSGML v1.0//EN
CALSCALE:GREGORIAN
METHOD:PUBLISH
X-WR-CALNAME:Bibliothèque universitaire
X-ORIGINAL-URL:https://bibliotheque.unicaen.fr
X-WR-CALDESC:Évènements pour Bibliothèque universitaire
REFRESH-INTERVAL;VALUE=DURATION:PT1H
X-Robots-Tag:noindex
X-PUBLISHED-TTL:PT1H
BEGIN:VTIMEZONE
TZID:Europe/Paris
BEGIN:DAYLIGHT
TZOFFSETFROM:+0100
TZOFFSETTO:+0200
TZNAME:CEST
DTSTART:20230326T010000
END:DAYLIGHT
BEGIN:STANDARD
TZOFFSETFROM:+0200
TZOFFSETTO:+0100
TZNAME:CET
DTSTART:20231029T010000
END:STANDARD
BEGIN:DAYLIGHT
TZOFFSETFROM:+0100
TZOFFSETTO:+0200
TZNAME:CEST
DTSTART:20240331T010000
END:DAYLIGHT
BEGIN:STANDARD
TZOFFSETFROM:+0200
TZOFFSETTO:+0100
TZNAME:CET
DTSTART:20241027T010000
END:STANDARD
BEGIN:DAYLIGHT
TZOFFSETFROM:+0100
TZOFFSETTO:+0200
TZNAME:CEST
DTSTART:20250330T010000
END:DAYLIGHT
BEGIN:STANDARD
TZOFFSETFROM:+0200
TZOFFSETTO:+0100
TZNAME:CET
DTSTART:20251026T010000
END:STANDARD
END:VTIMEZONE
BEGIN:VEVENT
DTSTART;TZID=Europe/Paris:20240208T000000
DTEND;TZID=Europe/Paris:20240606T235959
DTSTAMP:20260422T005345
CREATED:20240221T101728Z
LAST-MODIFIED:20240227T131554Z
UID:50243-1707350400-1717718399@bibliotheque.unicaen.fr
SUMMARY:Habiter là - Exposition BU Olympe de Gouges
DESCRIPTION:La BU Olympe-de-Gouges accueille une sélection des œuvres du collectif d’artistes créé pour le projet « Habiter là » : Marie-Noëlle Deverre\, Giulia Torelli et Michel Bidet et des œuvres d’enfants issues de la pédagogie d’initiation (Association Germaine Tortel). \n\n\n\nVoir les horaires de la BU
URL:https://bibliotheque.unicaen.fr/evenement/habiter-la-exposition-bu-olympe-de-gouges/
LOCATION:Alençon · BU Olympe-de-Gouges\, Bibliothèque universitaire Olympe-de-Gouges\, Montfoulon\, Damigny\, 61250\, France
CATEGORIES:Exposition,Vie de campus
ATTACH;FMTTYPE=image/jpeg:https://bibliotheque.unicaen.fr/wp-content/uploads/sites/8/2024/02/Expo_Habiter_la_BUOG.jpg
END:VEVENT
BEGIN:VEVENT
DTSTART;TZID=Europe/Paris:20240403T130000
DTEND;TZID=Europe/Paris:20240403T140000
DTSTAMP:20260422T005345
CREATED:20230920T095333Z
LAST-MODIFIED:20260413T143615Z
UID:48734-1712149200-1712152800@bibliotheque.unicaen.fr
SUMMARY:Fake News
DESCRIPTION:Les fake news\, fausses informations diffusées dans les médias\, font désormais partie du paysage informationnel\, et il devient nécessaire d’apprendre à les identifier.  \n\n\n\nLa bibliothèque universitaire vous propose donc un atelier d’une heure\, libre et gratuit sur le sujet. \n\n\n\nA l’issue de cet atelier\, vous serez en mesure de  \n\n\n\n\nComprendre la place des infox dans notre environnement informationnel\n\n\n\nDécrypter les informations douteuses\n\n\n\nAppréhender les biais cognitifs qui peuvent altérer le jugement\n\n\n\n\nInscriptions \n\n\n\nLes inscriptions sont ouvertes 3 mois à l’avance
URL:https://bibliotheque.unicaen.fr/evenement/fake-news-11/
LOCATION:Caen · Campus 1 · BU Pierre-Sineux · Learning Lab\, Bibliothèque Universitaire Pierre-Sineux Campus 1\, Université de Caen Normandie\, Esplanade de la Paix\, Caen\, 14000\, France
CATEGORIES:Atelier
ATTACH;FMTTYPE=image/jpeg:https://bibliotheque.unicaen.fr/wp-content/uploads/sites/8/2023/09/UNICAEN_SCD_Ateliers_fake_news_2023.jpg
END:VEVENT
BEGIN:VEVENT
DTSTART;TZID=Europe/Paris:20240410T133000
DTEND;TZID=Europe/Paris:20240410T170000
DTSTAMP:20260422T005345
CREATED:20240122T090611Z
LAST-MODIFIED:20240220T160923Z
UID:49920-1712755800-1712768400@bibliotheque.unicaen.fr
SUMMARY:Permanences d'accès au droit
DESCRIPTION:Gratuites\, ces permanences sont ouvertes aux étudiants et personnels UNICAEN\, mais également à toute personne extérieure à l’université. Elles sont assurées par des professionnels.En salle 0\, les mercredis de 13h30 à 17hAccessibles avec ou sans rendez-vous \n\n\n\nContact\n\n\n\nPour demander un rendez-vous ou exposer sa question / son problème juridique02 50 10 13 07du lundi au vendredi de 9h à 12h et de 13h30 à 16h30contact@cdad14.frIndiquer son numéro de téléphone et ses disponibilités pour pouvoir être recontacté-e
URL:https://bibliotheque.unicaen.fr/evenement/permanences-dacces-au-droit-25/
LOCATION:Caen · Campus 1 · BU Pierre-Sineux\, Bibliothèque Universitaire Pierre-Sineux\, Esplanade de la Paix\, Caen\, 14000\, France
CATEGORIES:Accès au droit
ATTACH;FMTTYPE=image/jpeg:https://bibliotheque.unicaen.fr/wp-content/uploads/sites/8/2022/08/Permanences-droit-1000-400.jpg
END:VEVENT
BEGIN:VEVENT
DTSTART;TZID=Europe/Paris:20240411T140000
DTEND;TZID=Europe/Paris:20240411T160000
DTSTAMP:20260422T005345
CREATED:20230915T153338Z
LAST-MODIFIED:20230918T084248Z
UID:48592-1712844000-1712851200@bibliotheque.unicaen.fr
SUMMARY:Sensibilisation aux données de la recherche
DESCRIPTION:Pour vous inscrire à cette formation cliquer sur inscription (formulaire en bas de la page)Atelier en visioconférence
URL:https://bibliotheque.unicaen.fr/evenement/sensibilisation-aux-donnees-de-la-recherche-24/
CATEGORIES:Atelier,Science ouverte
ATTACH;FMTTYPE=image/jpeg:https://bibliotheque.unicaen.fr/wp-content/uploads/sites/8/2023/09/Sensib-donnees-rech-2023-24.jpg
ORGANIZER;CN="Service commun de la documentation":MAILTO:bibliotheque@unicaen.fr
END:VEVENT
BEGIN:VEVENT
DTSTART;TZID=Europe/Paris:20240415T000000
DTEND;TZID=Europe/Paris:20240531T235959
DTSTAMP:20260422T005345
CREATED:20240429T075935Z
LAST-MODIFIED:20240429T081500Z
UID:50989-1713139200-1717199999@bibliotheque.unicaen.fr
SUMMARY:Sport histoire et citoyenneté
DESCRIPTION:Après des siècles d’éclipse\, les Jeux Olympiques renaissentsymboliquement en Grèce\, à Athènes\, en 1896. Aujourd’hui\, lemouvement olympique s’affirme comme le premier événementmondial et revient à Paris en 2024 pour une trentième éditiondes Jeux Olympiques et la 33 e olympiade\, un siècle après les JeuxOlympiques de Paris 1924.Ancrés dans le contexte politique et géopolitique\, les mouvementsdémographiques\, les flux migratoires et les changements sociaux\, lesJeux Olympiques et Paralympiques deviennent une vitrine de l’Histoireet\, à chaque olympiade\, offrent un regard sur une époque\, mais aussisur le monde.Les différentes éditions de ces olympiades parcourent le monderéunissant des athlètes\, femmes et hommes\, réalisant de véritablesexploits et écrivant une page exceptionnelle du dépassement de soi.Ces histoires individuelles\, ces destins extraordinaires mettent enlumière des valeurs citoyennes\, des récits qui permettent d’éclairerl’histoire et le présent autrement.C’est cette histoire multiple\, à travers 30 Jeux Olympiques et 15 JeuxParalympiques\, que propose cette exposition en mettant en exerguedes récits hors norme\, de sportives et de sportifs\, qui ont marquéde leurs engagements l’histoire contemporaine.
URL:https://bibliotheque.unicaen.fr/evenement/sport-histoire-et-citoyennete/
LOCATION:Caen · Campus 2 · BU Rosalind-Franklin\, BU Rosalind-Franklin\, Campus 2\, Côte de Nacre\, Boulevard Maréchal Juin\, Caen\, 14032\, France
CATEGORIES:Exposition,Vie de campus
ATTACH;FMTTYPE=image/png:https://bibliotheque.unicaen.fr/wp-content/uploads/sites/8/2024/04/UNICAEN_SCD-HISTOIRE-SPORT.png
END:VEVENT
BEGIN:VEVENT
DTSTART;TZID=Europe/Paris:20240424T100000
DTEND;TZID=Europe/Paris:20240424T110000
DTSTAMP:20260422T005345
CREATED:20230822T091950Z
LAST-MODIFIED:20250411T094826Z
UID:48311-1713952800-1713956400@bibliotheque.unicaen.fr
SUMMARY:Ateliers Rédiger un plan de gestion de données
DESCRIPTION:Depuis plusieurs années\, les chercheurs ont l’obligation de fournir un « plan de gestion de données » (appelé également Data Management Plan) dans le cadre de leur projet financé (ANR\, Horizon Europe…).  \n\n\n\nCette obligation tend à se généraliser depuis le décret sur « l’intégrité scientifique » publié le 3 décembre 2021.  \n\n\n\n\nMais qu’est-ce qu’un plan de gestion de données ? \n\n\n\nQuelles sont les obligations qui y sont liées ? \n\n\n\nQuelles sont les recommandations de l’université de Caen Normandie en matière de gestion des données ? \n\n\n\nComment le rédiger facilement avec l’outil en ligne DMP-Opidor et être accompagné dans sa rédaction ? \n\n\n\n\nC’est à toutes ces questions que répondent les ateliers « Rédiger un plan de gestion de données ». Des séances en présentiel et en ligne sont proposées de septembre 2023 à juin 2024. \n\n\n\nDurée : 1h \n\n\n\nS’inscrire à un atelier \n\n\n\nPlus d’information sur l’élaboration des plans de gestion de données
URL:https://bibliotheque.unicaen.fr/evenement/ateliers-rediger-un-plan-de-gestion-de-donnees-13/
CATEGORIES:Atelier,Science ouverte
ATTACH;FMTTYPE=image/jpeg:https://bibliotheque.unicaen.fr/wp-content/uploads/sites/8/2023/08/UNICAEN_SCD_AteliersPGD-bis_1000-400.jpg
ORGANIZER;CN="Service commun de la documentation":MAILTO:bibliotheque@unicaen.fr
END:VEVENT
BEGIN:VEVENT
DTSTART;TZID=Europe/Paris:20240424T133000
DTEND;TZID=Europe/Paris:20240424T170000
DTSTAMP:20260422T005345
CREATED:20240122T090712Z
LAST-MODIFIED:20240220T153240Z
UID:49922-1713965400-1713978000@bibliotheque.unicaen.fr
SUMMARY:Permanences d'accès au droit
DESCRIPTION:Gratuites\, ces permanences sont ouvertes aux étudiants et personnels UNICAEN\, mais également à toute personne extérieure à l’université. Elles sont assurées par des professionnels.En salle 0\, les mercredis de 13h30 à 17hAccessibles avec ou sans rendez-vous \n\n\n\nContact\n\n\n\nPour demander un rendez-vous ou exposer sa question / son problème juridique02 50 10 13 07du lundi au vendredi de 9h à 12h et de 13h30 à 16h30contact@cdad14.frIndiquer son numéro de téléphone et ses disponibilités pour pouvoir être recontacté-e
URL:https://bibliotheque.unicaen.fr/evenement/permanences-dacces-au-droit-26/
LOCATION:Caen · Campus 1 · BU Pierre-Sineux\, Bibliothèque Universitaire Pierre-Sineux\, Esplanade de la Paix\, Caen\, 14000\, France
CATEGORIES:Accès au droit
ATTACH;FMTTYPE=image/jpeg:https://bibliotheque.unicaen.fr/wp-content/uploads/sites/8/2022/08/Permanences-droit-1000-400.jpg
END:VEVENT
END:VCALENDAR