BEGIN:VCALENDAR
VERSION:2.0
PRODID:-//Bibliothèque universitaire - ECPv6.15.18//NONSGML v1.0//EN
CALSCALE:GREGORIAN
METHOD:PUBLISH
X-WR-CALNAME:Bibliothèque universitaire
X-ORIGINAL-URL:https://bibliotheque.unicaen.fr
X-WR-CALDESC:Évènements pour Bibliothèque universitaire
REFRESH-INTERVAL;VALUE=DURATION:PT1H
X-Robots-Tag:noindex
X-PUBLISHED-TTL:PT1H
BEGIN:VTIMEZONE
TZID:Europe/Paris
BEGIN:DAYLIGHT
TZOFFSETFROM:+0100
TZOFFSETTO:+0200
TZNAME:CEST
DTSTART:20250330T010000
END:DAYLIGHT
BEGIN:STANDARD
TZOFFSETFROM:+0200
TZOFFSETTO:+0100
TZNAME:CET
DTSTART:20251026T010000
END:STANDARD
BEGIN:DAYLIGHT
TZOFFSETFROM:+0100
TZOFFSETTO:+0200
TZNAME:CEST
DTSTART:20260329T010000
END:DAYLIGHT
BEGIN:STANDARD
TZOFFSETFROM:+0200
TZOFFSETTO:+0100
TZNAME:CET
DTSTART:20261025T010000
END:STANDARD
BEGIN:DAYLIGHT
TZOFFSETFROM:+0100
TZOFFSETTO:+0200
TZNAME:CEST
DTSTART:20270328T010000
END:DAYLIGHT
BEGIN:STANDARD
TZOFFSETFROM:+0200
TZOFFSETTO:+0100
TZNAME:CET
DTSTART:20271031T010000
END:STANDARD
END:VTIMEZONE
BEGIN:VEVENT
DTSTART;TZID=Europe/Paris:20260113T000000
DTEND;TZID=Europe/Paris:20260302T235959
DTSTAMP:20260423T142921
CREATED:20260107T152242Z
LAST-MODIFIED:20260109T141613Z
UID:90193-1768262400-1772495999@bibliotheque.unicaen.fr
SUMMARY:Militantes et militants du sport populaire - mouvement social et histoire du sport au XXe siècle
DESCRIPTION:Le sport\, au XXᵉ siècle\, a été un outil d’émancipation et de solidarité pour le mouvement ouvrier. \n\n\n\nQuel est le lien entre le sport et le mouvement social et ouvrier ? Comment et pourquoi syndicats\, partis et associations ont investi le sport tout au long du XXe siècle ? \n\n\n\nL’exposition « Militantes et militants du sport populaire –  Mouvement social et histoire du sport au XXe siècle » met en scène une trentaine de militantes et militants du sport\, issus du mouvement ouvrier et social\, ayant contribué à la démocratisation du sport au XXe siècle. Sélectionnées par le Centre d’histoire sociale des mondes contemporains (CHS)\, ces figures militantes sont illustrées par l’artiste Fred Sochard. \n\n\n\nProduite par le Campus Condorcet et imaginée par le Centre d’histoire sociale des mondes contemporains (CHS\, CNRS – Université Paris 1 Panthéon-Sorbonne) et les équipes de l’Humathèque\, cette exposition\, illustrée par Fred Sochard\, s’inscrit dans le programme de recherche « Du Monde d’Avant au Monde d’Après » de l’Institut des sciences humaines et sociales du CNRS. Elle est organisée en partenariat avec le CNRS et le Département de la Seine-Saint-Denis\, avec le soutien de l’université Paris 1 Panthéon-Sorbonne et de Plaine Commune.
URL:https://bibliotheque.unicaen.fr/evenement/militantes-et-militants-du-sport-populaire-mouvement-social-et-histoire-du-sport-au-xxe-siecle/
LOCATION:Caen · Campus 2 · BU Rosalind-Franklin\, BU Rosalind-Franklin\, Campus 2\, Côte de Nacre\, Boulevard Maréchal Juin\, Caen\, 14032\, France
CATEGORIES:Exposition,Vie de campus
ATTACH;FMTTYPE=image/png:https://bibliotheque.unicaen.fr/wp-content/uploads/sites/8/2025/12/1000x400.-Exposition_-Militantes-et-militants-du-sport-populaire-1.1-e1765461031849.png
END:VEVENT
BEGIN:VEVENT
DTSTART;TZID=Europe/Paris:20260302T090000
DTEND;TZID=Europe/Paris:20260302T120000
DTSTAMP:20260423T142921
CREATED:20251202T104004Z
LAST-MODIFIED:20260414T094318Z
UID:90050-1772442000-1772452800@bibliotheque.unicaen.fr
SUMMARY:Atelier Thèse en santé : PubMed\, etc.
DESCRIPTION:3h pour devenir efficace dans vos recherches bibliographiques en vue de la thèse d’exercice \n\n\n\nObjectifs\n\n\n\nPour la recherche documentaire en vue du mémoire dans les filières paramédicales\, se reporter à : Approfondissement des bases documentaires en santéPour une formation à l’utilisation de Zotero (gestionnaire de références bibliographiques)\, se reporter à : Ateliers Zotéro-santé \n\n\n\n\nMaîtriser l’interrogation des ressources incontournables pour la thèse\n\n\n\nOptimiser son interrogation du web\n\n\n\nSavoir accéder au texte des articles repérés \n\n\n\n\nProgramme\n\n\n\n\nApprendre à construire une requête\, notamment en utilisant la recherche avancée et les opérateurs booléens (ET\, OU\, SAUF)\n\n\n\nRechercher des thèses et des livres : interrogation du catalogue Sudoc\n\n\n\nRechercher des références d’articles scientifiques : interrogation des grandes bases internationales : PubMed\, ScienceDirect.\n\n\n\nRechercher des données issues des institutions publiques (HAS\, DREES\, etc.) : recherche optimisée sur Google\n\n\n\nAccéder au plein-texte des articles\, dès que c’est possible : installation de l’extension de navigateur Click and Read\n\n\n\n\nInscriptions\n\n\n\nUtilisez le bouton Réserver ci-dessous pour vous inscrire : inscriptions ouvertes 3 mois à l’avance.Lieu : BU Madeleine-BrèsVenez avec votre PC portable + vos identifiants UNICAEN (compte numérique) \n\n\n\nVous recevrez une confirmation de votre inscription par mail.15 participants par atelier maximum. \n\n\n\nVoir toutes les dates disponibles
URL:https://bibliotheque.unicaen.fr/evenement/atelier-recherche-bibliographique-en-sante-pubmed-etc-3/
LOCATION:Caen · Campus 5 · BU Madeleine-Brès · Salle de formation\, BU Madeleine-Brès\, 2 Rue des Rochambelles\, Caen\, 14000\, France
CATEGORIES:Atelier
ATTACH;FMTTYPE=image/png:https://bibliotheque.unicaen.fr/wp-content/uploads/sites/8/2022/11/UNICAEN_SCD_Pubmed-1000-400.png
END:VEVENT
BEGIN:VEVENT
DTSTART;TZID=Europe/Paris:20260303T090000
DTEND;TZID=Europe/Paris:20260303T100000
DTSTAMP:20260423T142921
CREATED:20251010T121905Z
LAST-MODIFIED:20251010T121907Z
UID:89830-1772528400-1772532000@bibliotheque.unicaen.fr
SUMMARY:Rédiger un data paper
DESCRIPTION:Défini par l’INIST comme « une publication scientifique dont le but principal est de décrire un ou plusieurs jeux de données\, plutôt que des résultats d’analyse »\, le data paper s’impose progressivement comme une nouvelle modalité de valoriser ses travaux de recherche. \n\n\n\nCet atelier vise à présenter ce que sont les data papers et les modalités pratiques de leur rédaction. Il s’adresse à tous les chercheurs\, enseignants-chercheurs\, doctorants et personnels de recherche qui souhaitent être informés et se faire accompagner sur cette thématique. \n\n\n\nProgramme\n\n\n\n\nDéfinir un data paper\n\n\n\nIdentifier les revues ou data journals où vous pourrez publier votre data paper\n\n\n\nÉnumérer les éléments méthodologiques pour rédiger un data paper\n\n\n\nMobiliser les personnes ressources pour rédiger un data paper\n\n\n\n\n\n\nProgramme complet des ateliers Science ouverte
URL:https://bibliotheque.unicaen.fr/evenement/rediger-un-data-paper-10/
LOCATION:Caen · Campus 1 · BU Pierre-Sineux\, Bibliothèque Universitaire Pierre-Sineux\, Esplanade de la Paix\, Caen\, 14000\, France
CATEGORIES:Atelier,Recherche,Science ouverte
ATTACH;FMTTYPE=image/jpeg:https://bibliotheque.unicaen.fr/wp-content/uploads/sites/8/2024/09/UNICAEN_SCD-ADN_module_data-papers-e1726563977528.jpg
END:VEVENT
BEGIN:VEVENT
DTSTART;TZID=Europe/Paris:20260304T120000
DTEND;TZID=Europe/Paris:20260304T130000
DTSTAMP:20260423T142921
CREATED:20251204T104622Z
LAST-MODIFIED:20260112T144140Z
UID:90142-1772625600-1772629200@bibliotheque.unicaen.fr
SUMMARY:Atelier Zotero en visio (éco-gestion)
DESCRIPTION:Finies les références d’articles ou de livres notées sur un bout de papier ou dans un fichier. Passez à Zotero\, logiciel de gestion bibliographique libre et gratuit ! \n\n\n\nAtelier en visio\n\n\n\nOrienté vers l’économie-gestion\, l’atelier est ouvert à toutes et tous\, quels que soient votre cursus ou votre domaine. \n\n\n\n \n\n\n\nPrérequis\n\n\n\nInstallation du logiciel en amont de la séance (envoi tutoriel).Consulter notre page Zotero pour télécharger et installer le logiciel sur vote ordinateur. \n\n\n\nContenu\n\n\n\nCompétence viséeCollecter\, enregistrer et réutiliser les références bibliographiques pour vos travaux académiques. \n\n\n\nObjectifs pédagogiquesGagner en efficacité lors de la collecte de vos références bibliographiques.Savoir organiser sa bibliothèque Zotero.Savoir utiliser Zotero pour vos citations académiques : renvoi bibliographique et liste de références bibliographiques. \n\n\n\nContenu de la séanceDécouverte des potentialités de Zotero.Prise en mains (TD)Création d’une liste de références bibliographiques \n\n\n\nFormateur : Jacques-Olivier Catois \n\n\n\nRéservation\n\n\n\niae.mediatheque@unicaen.fr \n\n\n\nRetrouvez toutes les dates de nos ateliers dans l’agenda des ateliers
URL:https://bibliotheque.unicaen.fr/evenement/atelier-zotero-en-visio-eco-gestion-5/
CATEGORIES:Atelier
ATTACH;FMTTYPE=image/jpeg:https://bibliotheque.unicaen.fr/wp-content/uploads/sites/8/2022/07/UNICAEN_SCD_Service-Zotero_2022-07-161000x400-1.jpg
END:VEVENT
BEGIN:VEVENT
DTSTART;TZID=Europe/Paris:20260304T123000
DTEND;TZID=Europe/Paris:20260304T133000
DTSTAMP:20260423T142921
CREATED:20260126T132950Z
LAST-MODIFIED:20260202T151518Z
UID:90538-1772627400-1772631000@bibliotheque.unicaen.fr
SUMMARY:Approfondissement des bases documentaires en santé
DESCRIPTION:Profitez de la pause du midi pour réviser la méthodologie de la recherche documentaire en santé. \n\n\n\nObjectifs\n\n\n\nPour une formation à la recherche documentaire en vue de la thèse d’exercice\, se reporter à : Ateliers Thèse en santé (PubMed\, etc)Pour une formation à l’utilisation de Zotero (gestionnaire de références bibliographiques)\, se reporter à : Ateliers Zotéro-santé \n\n\n\n\nConnaître les contenus spécifiques des bases de données en santé\, choisir les bases les plus adaptées à son sujet.\n\n\n\nOptimiser son interrogation des bases.\n\n\n\nSavoir accéder au texte des articles repérés.\n\n\n\n\nProgramme\n\n\n\nPrioritairement destiné aux étudiants paramédicaux\, cet atelier d’1h est ouvert à toutes et tous. \n\n\n\n\nRappels :  étapes d’une recherche documentaire\, construction des requête\, notamment en utilisant la recherche avancée et les opérateurs booléens (ET\, OU\, SAUF)\n\n\n\nInterrogation des bases : ex : ClinicalKey Student\, Cairn\, Lissa.\n\n\n\nMoteur de recherche scientifique : Google Scholar\, couplé avec l’extension de navigateur Click and Read\n\n\n\n\nInfos pratiques\n\n\n\nVenez avec votre PC portable. \n\n\n\nRendez-vous à l’accueil de la BU Madeleine-Brès.
URL:https://bibliotheque.unicaen.fr/evenement/approfondissement-des-bases-documentaires-en-sante-10/
LOCATION:Caen · Campus 5 · BU Madeleine-Brès\, BU Madeleine-Brès\, 2 Rue des Rochambelles\, Caen\, 14000\, France
CATEGORIES:Atelier
ATTACH;FMTTYPE=image/jpeg:https://bibliotheque.unicaen.fr/wp-content/uploads/sites/8/2025/09/UNICAEN_SCD_Ateliers_Recherche_doc_Soin.jpg
END:VEVENT
BEGIN:VEVENT
DTSTART;TZID=Europe/Paris:20260304T130000
DTEND;TZID=Europe/Paris:20260304T140000
DTSTAMP:20260423T142921
CREATED:20250929T085817Z
LAST-MODIFIED:20260414T093201Z
UID:89450-1772629200-1772632800@bibliotheque.unicaen.fr
SUMMARY:Atelier Zotero (SHS)
DESCRIPTION:Finies les références d’articles ou de livres notées sur un bout de papier ou dans un fichier. Passez à Zotero\, logiciel de gestion bibliographique libre et gratuit ! \n\n\n\nDans le but de bien préparer votre atelier\, veuillez prendre connaissance des pré-requis obligatoires à cet atelier sur notre page Zotero \n\n\n\nUtilisez le bouton Réserver ci-dessous pour vous inscrire à cette date d’atelierVous recevrez une confirmation de votre inscription par mailLes inscriptions sont ouvertes 3 mois à l’avance \n\n\n\nRetrouvez toutes les dates des ateliers sur la page dédiée \n\n\n\nAtelier de 1 heures – 6 participants par atelier maximum
URL:https://bibliotheque.unicaen.fr/evenement/atelier-zotero-shs-19/
LOCATION:Caen · Campus 1 · BU Pierre-Sineux · Learning Lab\, Bibliothèque Universitaire Pierre-Sineux Campus 1\, Université de Caen Normandie\, Esplanade de la Paix\, Caen\, 14000\, France
CATEGORIES:Atelier
ATTACH;FMTTYPE=image/jpeg:https://bibliotheque.unicaen.fr/wp-content/uploads/sites/8/2022/07/UNICAEN_SCD_Service-Zotero_2022-07-161000x400-1.jpg
ORGANIZER;CN="Service commun de la documentation":MAILTO:bibliotheque@unicaen.fr
END:VEVENT
BEGIN:VEVENT
DTSTART;TZID=Europe/Paris:20260305T123000
DTEND;TZID=Europe/Paris:20260305T133000
DTSTAMP:20260423T142921
CREATED:20260126T133019Z
LAST-MODIFIED:20260202T151518Z
UID:90539-1772713800-1772717400@bibliotheque.unicaen.fr
SUMMARY:Approfondissement des bases documentaires en santé
DESCRIPTION:Profitez de la pause du midi pour réviser la méthodologie de la recherche documentaire en santé. \n\n\n\nObjectifs\n\n\n\nPour une formation à la recherche documentaire en vue de la thèse d’exercice\, se reporter à : Ateliers Thèse en santé (PubMed\, etc)Pour une formation à l’utilisation de Zotero (gestionnaire de références bibliographiques)\, se reporter à : Ateliers Zotéro-santé \n\n\n\n\nConnaître les contenus spécifiques des bases de données en santé\, choisir les bases les plus adaptées à son sujet.\n\n\n\nOptimiser son interrogation des bases.\n\n\n\nSavoir accéder au texte des articles repérés.\n\n\n\n\nProgramme\n\n\n\nPrioritairement destiné aux étudiants paramédicaux\, cet atelier d’1h est ouvert à toutes et tous. \n\n\n\n\nRappels :  étapes d’une recherche documentaire\, construction des requête\, notamment en utilisant la recherche avancée et les opérateurs booléens (ET\, OU\, SAUF)\n\n\n\nInterrogation des bases : ex : ClinicalKey Student\, Cairn\, Lissa.\n\n\n\nMoteur de recherche scientifique : Google Scholar\, couplé avec l’extension de navigateur Click and Read\n\n\n\n\nInfos pratiques\n\n\n\nVenez avec votre PC portable. \n\n\n\nRendez-vous à l’accueil de la BU Madeleine-Brès.
URL:https://bibliotheque.unicaen.fr/evenement/approfondissement-des-bases-documentaires-en-sante-11/
LOCATION:Caen · Campus 5 · BU Madeleine-Brès\, BU Madeleine-Brès\, 2 Rue des Rochambelles\, Caen\, 14000\, France
CATEGORIES:Atelier
ATTACH;FMTTYPE=image/jpeg:https://bibliotheque.unicaen.fr/wp-content/uploads/sites/8/2025/09/UNICAEN_SCD_Ateliers_Recherche_doc_Soin.jpg
END:VEVENT
BEGIN:VEVENT
DTSTART;TZID=Europe/Paris:20260305T140000
DTEND;TZID=Europe/Paris:20260305T150000
DTSTAMP:20260423T142921
CREATED:20251010T122652Z
LAST-MODIFIED:20251010T122729Z
UID:89834-1772719200-1772722800@bibliotheque.unicaen.fr
SUMMARY:Atelier HAL – Questions juridiques
DESCRIPTION:Cet atelier à distance d’une durée d’une heure aborde les questions juridiques autour de l’ouverture des publications dans HAL. \n\n\n\nCet atelier est organisé par la cellule d’appui HAL Normandie.  \n\n\n\nProposé uniquement sous la forme de visioconférences\, il approfondit les éléments juridiques autour du dépôt des publications scientifiques dans une archive ouverte. Il complète la formation à HAL. \n\n\n\n\n\nProgramme complet des ateliers Science ouverte
URL:https://bibliotheque.unicaen.fr/evenement/atelier-hal-questions-juridiques-2/
LOCATION:En visioconférence
CATEGORIES:Atelier,Recherche,Science ouverte
ATTACH;FMTTYPE=image/jpeg:https://bibliotheque.unicaen.fr/wp-content/uploads/sites/8/2023/09/HAL_formation_2023_ACTU.jpg
END:VEVENT
BEGIN:VEVENT
DTSTART;TZID=Europe/Paris:20260309T000000
DTEND;TZID=Europe/Paris:20260313T235959
DTSTAMP:20260423T142921
CREATED:20250214T123043Z
LAST-MODIFIED:20260309T134237Z
UID:52930-1773014400-1773446399@bibliotheque.unicaen.fr
SUMMARY:Énigmes mathématiques
DESCRIPTION:Chaque jour\, une nouvelle énigme mathématique vous attend sur les campus de l’université. À vous de jouer ! \n\n\n\nJeux animés par la Corpo Sciences \n\n\n\nLieux d’animation : \n\n\n\n\nCaen\, Campus 2\, BU Rosalind-Franklin\n\n\n\nCaen\, Campus Inspé\, BU Gaston-Mialaret\n\n\n\nCaen\, Campus 5\, BU Madeleine-Brès\n\n\n\nCaen Campus 1\, BU Pierre-Sineux\n\n\n\nIfs\, Campus 3\, IUT Info-Com\, « La Rue » (Hall)\n\n\n\nAlençon\, BU Olympe-de-Gouges\n\n\n\nCherbourg\, BU Blanche-Maupas
URL:https://bibliotheque.unicaen.fr/evenement/enigmes-mathematiques-3/
CATEGORIES:EnQuête de Sciences,Vie de campus
END:VEVENT
BEGIN:VEVENT
DTSTART;TZID=Europe/Paris:20260309T000000
DTEND;TZID=Europe/Paris:20260321T235959
DTSTAMP:20260423T142921
CREATED:20260213T153132Z
LAST-MODIFIED:20260309T134600Z
UID:90882-1773014400-1774137599@bibliotheque.unicaen.fr
SUMMARY:Science ou science-fiction ?
DESCRIPTION:Démêlez ce qui est scientifiquement vrai\, de ce qui est pure fiction\, dans vos films et séries préférés. \n\n\n\nCette exposition\, réalisée par des étudiants de L3 Physique et L3 Chimie de l’Université de Caen Normandie\, dans le cadre des cours d’anglais de Madame Legrix-Pagès\, présente des posters en anglais. \n\n\n\nCes posters\, consacrés à des films et séries\, tâchent\, chacun\, de répondre à la question : « Science or science-fiction ? ». \n\n\n\nLes étudiants y analysent la crédibilité scientifique des œuvres\, en mobilisant leurs connaissances en physique et en chimie. \n\n\n\n\nVotez pour votre poster préféré !
URL:https://bibliotheque.unicaen.fr/evenement/science-ou-science-fiction/
LOCATION:Caen · Campus 2 · BU Rosalind-Franklin\, BU Rosalind-Franklin\, Campus 2\, Côte de Nacre\, Boulevard Maréchal Juin\, Caen\, 14032\, France
CATEGORIES:EnQuête de Sciences,Exposition
ATTACH;FMTTYPE=image/jpeg:https://bibliotheque.unicaen.fr/wp-content/uploads/sites/8/2023/09/expo-science-BUBM.jpg
END:VEVENT
BEGIN:VEVENT
DTSTART;TZID=Europe/Paris:20260309T000000
DTEND;TZID=Europe/Paris:20260321T235959
DTSTAMP:20260423T142921
CREATED:20260213T155529Z
LAST-MODIFIED:20260220T163605Z
UID:90893-1773014400-1774137599@bibliotheque.unicaen.fr
SUMMARY:Vous avez dit... disquette ?
DESCRIPTION:Plongez au cœur de l’histoire de l’informatique !  \n\n\n\nPartez pour un voyage captivant aux origines du numérique et découvrez des machines emblématiques comme l’Apple II ou l’IBM PC.  \n\n\n\nCartes perforées\, rubans magnétiques et disquettes n’auront bientôt plus de secret pour vous ! \n\n\n\nVisites guidées flash \n\n\n\nAnimées par Charlotte Deborde\, chargée de collections à l’UFR Sciences \n\n\n\nMardi 10 mars : 13h à 13h20 et 16h à 16h20 \n\n\n\nJeudi 12 mars : 12h30 à 12h50 et 14h à 14h20 \n\n\n\nMardi 17 mars : 13h à 13h20 \n\n\n\nSans réservation
URL:https://bibliotheque.unicaen.fr/evenement/vous-avez-dit-disquette-2/
LOCATION:Caen · Campus 1 · Hall Bâtiment G\, Esplanade de la Paix\, Caen\, 14032\, France
CATEGORIES:EnQuête de Sciences,Exposition
ATTACH;FMTTYPE=image/jpeg:https://bibliotheque.unicaen.fr/wp-content/uploads/sites/8/2025/08/UNICAEN_SCD_Expo_Disquette.jpg
END:VEVENT
BEGIN:VEVENT
DTSTART;TZID=Europe/Paris:20260309T000000
DTEND;TZID=Europe/Paris:20260504T235959
DTSTAMP:20260423T142921
CREATED:20260302T123312Z
LAST-MODIFIED:20260302T123313Z
UID:91248-1773014400-1777939199@bibliotheque.unicaen.fr
SUMMARY:Sigiri Apsara\, exposition de batiks de Prémalal De Silva
DESCRIPTION:Le batik est une technique traditionnelle d’Asie du Sud-Est\, où l’on imprime des tissus par bains de teinture successifs. \n\n\n\nLe procédé est détaillé en introduction à l’exposition. \n\n\n\nPrémalal De Silva est un artiste formé au batik sri-lankais. Dans ses nouvelles œuvres\, il explore la thématique du corps et de la danse\, notamment à travers la figure des « apsaras »\, ces nymphes de la culture hindoue. \n\n\n\nÀ travers ses batiks\, il nous invite à un voyage artistique et culturel haut en couleurs.
URL:https://bibliotheque.unicaen.fr/evenement/sigiri-apsara-exposition-de-batiks-de-premalal-de-silva/
LOCATION:Caen · Campus 5 · BU Madeleine-Brès\, BU Madeleine-Brès\, 2 Rue des Rochambelles\, Caen\, 14000\, France
CATEGORIES:Exposition
ATTACH;FMTTYPE=image/jpeg:https://bibliotheque.unicaen.fr/wp-content/uploads/sites/8/2026/03/UNICAEN_SCD_Sigiri-Apsara-expo-batiks.jpg
END:VEVENT
END:VCALENDAR